BEGIN:VCALENDAR
VERSION:2.0
PRODID:-//Community College of Aurora - ECPv6.15.20//NONSGML v1.0//EN
CALSCALE:GREGORIAN
METHOD:PUBLISH
X-ORIGINAL-URL:https://ccaurora.edu
X-WR-CALDESC:Events for Community College of Aurora
REFRESH-INTERVAL;VALUE=DURATION:PT1H
X-Robots-Tag:noindex
X-PUBLISHED-TTL:PT1H
BEGIN:VTIMEZONE
TZID:America/Denver
BEGIN:DAYLIGHT
TZOFFSETFROM:-0700
TZOFFSETTO:-0600
TZNAME:MDT
DTSTART:20230312T090000
END:DAYLIGHT
BEGIN:STANDARD
TZOFFSETFROM:-0600
TZOFFSETTO:-0700
TZNAME:MST
DTSTART:20231105T080000
END:STANDARD
BEGIN:DAYLIGHT
TZOFFSETFROM:-0700
TZOFFSETTO:-0600
TZNAME:MDT
DTSTART:20240310T090000
END:DAYLIGHT
BEGIN:STANDARD
TZOFFSETFROM:-0600
TZOFFSETTO:-0700
TZNAME:MST
DTSTART:20241103T080000
END:STANDARD
BEGIN:DAYLIGHT
TZOFFSETFROM:-0700
TZOFFSETTO:-0600
TZNAME:MDT
DTSTART:20250309T090000
END:DAYLIGHT
BEGIN:STANDARD
TZOFFSETFROM:-0600
TZOFFSETTO:-0700
TZNAME:MST
DTSTART:20251102T080000
END:STANDARD
END:VTIMEZONE
BEGIN:VEVENT
DTSTART;TZID=America/Denver:20240116T090000
DTEND;TZID=America/Denver:20240116T120000
DTSTAMP:20260424T062103
CREATED:20240105T155327Z
LAST-MODIFIED:20240108T212237Z
UID:10000664-1705395600-1705406400@ccaurora.edu
SUMMARY:Welcome Back Celebration
DESCRIPTION:Welcome Back Celebration: Free t-shirt and academic planner hand out.
URL:https://ccaurora.edu/event/welcome-back-celebration/
LOCATION:CentreTech Campus Student Center Café\, 16000 E Centretech Pkwy\, Aurora\, 80011\, United States
END:VEVENT
END:VCALENDAR