BEGIN:VCALENDAR
VERSION:2.0
PRODID:-//Community College of Aurora - ECPv6.15.20//NONSGML v1.0//EN
CALSCALE:GREGORIAN
METHOD:PUBLISH
X-WR-CALNAME:Community College of Aurora
X-ORIGINAL-URL:https://ccaurora.edu
X-WR-CALDESC:Events for Community College of Aurora
REFRESH-INTERVAL;VALUE=DURATION:PT1H
X-Robots-Tag:noindex
X-PUBLISHED-TTL:PT1H
BEGIN:VTIMEZONE
TZID:America/Denver
BEGIN:DAYLIGHT
TZOFFSETFROM:-0700
TZOFFSETTO:-0600
TZNAME:MDT
DTSTART:20240310T090000
END:DAYLIGHT
BEGIN:STANDARD
TZOFFSETFROM:-0600
TZOFFSETTO:-0700
TZNAME:MST
DTSTART:20241103T080000
END:STANDARD
BEGIN:DAYLIGHT
TZOFFSETFROM:-0700
TZOFFSETTO:-0600
TZNAME:MDT
DTSTART:20250309T090000
END:DAYLIGHT
BEGIN:STANDARD
TZOFFSETFROM:-0600
TZOFFSETTO:-0700
TZNAME:MST
DTSTART:20251102T080000
END:STANDARD
BEGIN:DAYLIGHT
TZOFFSETFROM:-0700
TZOFFSETTO:-0600
TZNAME:MDT
DTSTART:20260308T090000
END:DAYLIGHT
BEGIN:STANDARD
TZOFFSETFROM:-0600
TZOFFSETTO:-0700
TZNAME:MST
DTSTART:20261101T080000
END:STANDARD
END:VTIMEZONE
BEGIN:VEVENT
DTSTART;TZID=America/Denver:20250320T140000
DTEND;TZID=America/Denver:20250320T150000
DTSTAMP:20260424T081604
CREATED:20250129T234804Z
LAST-MODIFIED:20250129T234804Z
UID:10002382-1742479200-1742482800@ccaurora.edu
SUMMARY:From Here to Career Virtual Series
DESCRIPTION:Join us every Thursday in February and March for our Career Virtual Series! Boost your skills\, expand your etwork\, and explore new opportunities – all from the comfort of your home. Don’t miss out! \nSchedule\nThursday\, February 6: Resume Building\nThursday\, February 13: Internship/Job Search\nThursday\, February 20: First Generation Success\nThursday\, February 27: Skills Employers Seek\nThursday\, March 6: Career Exploration\nThursday\, March 20: Acing the Interview\nThursday\, March 27: LinkedIn Profile/Personal Branding \n2 P.M. – 3 P.M.
URL:https://ccaurora.edu/event/from-here-to-career-virtual-series/2025-03-20/
LOCATION:Virtual
END:VEVENT
BEGIN:VEVENT
DTSTART;TZID=America/Denver:20250320T124500
DTEND;TZID=America/Denver:20250320T140000
DTSTAMP:20260424T081604
CREATED:20240626T155846Z
LAST-MODIFIED:20240626T155846Z
UID:10001112-1742474700-1742479200@ccaurora.edu
SUMMARY:Students of Christ 3:16 - Bible Study
DESCRIPTION:Wednesdays CentreTech Campus\nCLRM BLDG RM 102\n3 PM – 4:30 PM \nThursdays Lowry Campus\nWest Quad RM 218\n12:45 PM – 2 PM \nEmail Info: studentsofchrist.cca@ccaurora.edu
URL:https://ccaurora.edu/event/students-of-christ-316-bible-study-2/2025-03-20/
LOCATION:West Quad\, Lowry Campus
END:VEVENT
BEGIN:VEVENT
DTSTART;TZID=America/Denver:20250320T123000
DTEND;TZID=America/Denver:20250320T133000
DTSTAMP:20260424T081604
CREATED:20250318T155059Z
LAST-MODIFIED:20250318T155059Z
UID:10002908-1742473800-1742477400@ccaurora.edu
SUMMARY:SUCCESS  LOOKS LIKE ME
DESCRIPTION:SUCCESS \nLOOKS LIKE ME \nThursday\, March 20\, 12:30-1:30 P.M. \nJoin us for a panel discussion featuring former CCA \nStudents who have successfully transitioned into \ncareers or prestigious programs. Hear firsthand the \nstrategies they employed to achieve their goals \nCentreTech Campus \nStudent Center\, Rotunda \nFor more information contact \ncareercoaching.readiness@ccaurora.eduv
URL:https://ccaurora.edu/event/success-looks-like-me-2/
END:VEVENT
BEGIN:VEVENT
DTSTART;TZID=America/Denver:20250319T150000
DTEND;TZID=America/Denver:20250319T163000
DTSTAMP:20260424T081604
CREATED:20240626T154930Z
LAST-MODIFIED:20240626T155117Z
UID:10001054-1742396400-1742401800@ccaurora.edu
SUMMARY:Students of Christ 3:16 - Bible Study
DESCRIPTION:Wednesdays CentreTech Campus\nCLRM BLDG RM 102\n3 PM – 4:30 PM \nThursdays Lowry Campus\nWest Quad RM 218\n12:45 PM – 2 PM \nEmail Info: studentsofchrist.cca@ccaurora.edu
URL:https://ccaurora.edu/event/students-of-christ-316-bible-study/2025-03-19/
LOCATION:CentreTech Campus\, 16000 E Centretech Pkwy\, Aurora\, CO\, 80011\, United States
END:VEVENT
BEGIN:VEVENT
DTSTART;TZID=America/Denver:20250319T143000
DTEND;TZID=America/Denver:20250319T153000
DTSTAMP:20260424T081604
CREATED:20250305T185054Z
LAST-MODIFIED:20250305T185054Z
UID:10002866-1742394600-1742398200@ccaurora.edu
SUMMARY:Understanding the Knots
DESCRIPTION:We are surrounded by complex social\, political\, and environmental issues. \nHow can we untangle all? \nWriting offers one safe and positive outlet for coping with the stress and anxiety these issues may provoke. \nBring your preferred writing tools and join the English Faculty Carla Campbell and guest speakers Sharon Fleming\, M. Ed. in this contemplative writing and meditation workshop. \nWednesday\, March 19\n2:30 – 3:30 p.m.\nF110\, Black Box Theater\nFine Arts Building\,\nCentreTech Campus
URL:https://ccaurora.edu/event/understanding-the-knots/
END:VEVENT
BEGIN:VEVENT
DTSTART;TZID=America/Denver:20250319T140000
DTEND;TZID=America/Denver:20250319T170000
DTSTAMP:20260424T081604
CREATED:20250221T182748Z
LAST-MODIFIED:20250722T213859Z
UID:10002849-1742392800-1742403600@ccaurora.edu
SUMMARY:Student Development Workshop Series
DESCRIPTION:Hearts & Crafts\nFriday\, February 7 • 4- 6 P.M.\nCentreTech Campus\, Student Centre Building Rotunda\nBring your family for a heartwarming evening of fun\, creativity\, and love!\nThis family-friendly Valentine’s Day event is designed to create engaging\nand memorable moments together. \nThe Psychology of Money: Understanding Your Financial Mindset\nThursday\, February 20 • 1- 2 P.M.\nVirtual Workshop Zoom Link Below Scan QR Code\nDive into the fascinating intersection of psychology and personal finance in\nthis insightful workshop. This workshop will explore underlying emotions\,\nbeliefs and cognitive biases that shape our financial decisions. \nLinkedIn Learning & Interview Prep\nTuesday\, March 4 • 5- 6 P.M.\nCentreTech Campus\, Student Centre Building Rotunda \, S100\nMaster interview success with this LinkedIn Learning workshop. Gain key strategies\,\nboost confidence\, and leave a lasting impression. \nMonthly Study Skills Workshop with TRIO\nWednesday\, March 19 • 2- 5 P.M.\nCentreTech Campus\, Classroom Building\nNavigate FAFSA and scholarships with ease in this monthly workshop. Access expert tips\, essential\nresources\, and actionable guidance. \nGetting Crafty With Future Foxes\nFriday \, March 21 • 4- 7 P.M.\nCentreTech Campus\, Student Centre Building\, Rotunda S100\nEnjoy an evening with your little loved ones by making arts & crafts! Come paint a\ncanvas\, make friendship bracelet and have a foxtastic time! \nWellness Works Wonders With COSI\nThursday \, April 10 • 2- 3 P.M.\nCentreTech Campus\, Student Centre Building Rotunda \, S100\nIt is that time of the semester when you are preparing for finals week. Join us as we\ndiscuss wellness practices\, de-stress techniques and celebrating achievements.
URL:https://ccaurora.edu/event/student-development-workshop-series-3/2025-03-19/
LOCATION:CentreTech Campus\, 16000 E Centretech Pkwy\, Aurora\, CO\, 80011\, United States
END:VEVENT
BEGIN:VEVENT
DTSTART;TZID=America/Denver:20250319T110000
DTEND;TZID=America/Denver:20250319T140000
DTSTAMP:20260424T081604
CREATED:20250213T194243Z
LAST-MODIFIED:20250722T213649Z
UID:10002904-1742382000-1742392800@ccaurora.edu
SUMMARY:Foxy's Mini Mart
DESCRIPTION:Foxy’s Mini Mart \nA Free Food Market for CCA students and employees. \nLowry Studios \n11 A.M. – 4 P.M. \nSpring 2025\nWednesday\, February 19\nWednesday\, March 5\nWednesday\, March 19\nWednesday\, April 2\nMonday\, April 14\nWednesday\, April 30
URL:https://ccaurora.edu/event/foxys-mini-mart/2025-03-19/
END:VEVENT
BEGIN:VEVENT
DTSTART;VALUE=DATE:20250319
DTEND;VALUE=DATE:20250320
DTSTAMP:20260424T081604
CREATED:20250227T165423Z
LAST-MODIFIED:20250227T165423Z
UID:10002854-1742342400-1742428799@ccaurora.edu
SUMMARY:Women's History Month: Book Club
DESCRIPTION:Parable of the Sower \nJoin us in exploring the journey of 15-year-old Lauren Olamina in Early 2020s California\, amid climate change and economic crises\, she battles personal challenges while forcing a new faith and vision for humanity’s future. Don’t Miss Out! \nMarch 19th\, 2025\nCentreTech Campus\, Fine Arts Building\, Forum F100 \nfirst meeting|Books provided-First come First served \nFor questions\, Comments\, or Concerns\, please email: BSA@CCAURORA.EDU
URL:https://ccaurora.edu/event/womens-history-month-book-club/
END:VEVENT
BEGIN:VEVENT
DTSTART;TZID=America/Denver:20250318T110000
DTEND;TZID=America/Denver:20250318T130000
DTSTAMP:20260424T081604
CREATED:20250314T164339Z
LAST-MODIFIED:20250722T213744Z
UID:10002901-1742295600-1742302800@ccaurora.edu
SUMMARY:STEM Career Fair
DESCRIPTION:Discover career possibilities and network with top local employers to discuss careers\, internships\, fellowships\, and more! \nTuesday\, March 18\, 2025\n11 A.M. – 1 P.M.\nLowry Campus\, West Quad\nBergren Room 112 \nCompanies Register using QR code
URL:https://ccaurora.edu/event/stem-career-fair-3/
LOCATION:Lowry\, West Quad\, Bergen Room\, 722 Alton Way\, Denver\, CO\, 80230\, United States
END:VEVENT
BEGIN:VEVENT
DTSTART;TZID=America/Denver:20250317T090000
DTEND;TZID=America/Denver:20250317T130000
DTSTAMP:20260424T081604
CREATED:20250106T202140Z
LAST-MODIFIED:20250106T202140Z
UID:10002283-1742202000-1742216400@ccaurora.edu
SUMMARY:FAFSA & CASFA Rushes
DESCRIPTION:The CCA Financial Aid Office will be hosting special walk-in assistance with the FAFSA/CASFA Applications at the CentreTech Campus\, Admin Building. \nMonday\, March 3 | 10 A.M. – 1 P.M. | A103H\nFriday\, March 7 | 2 P.M. – 5 P.M. | A103H\nThursday\, March 13 | 2 P.M. – 6 P.M. | A103H\nMonday\, March 17 | 9 A.M. – 1 P.M. | A103H\nThursday\, March 27 | 2 P.M. – 5 P.M. | A103H \nPrefer to meet virtually? Call 303-352-8746\, text 303-552-5344 or email EOC@CCD.EDU\nIn-person appointment call 303-360-4709 or email financialaid.cca@ccaurora.edu
URL:https://ccaurora.edu/event/fafsa-casfa-rushes-3/2025-03-17/
LOCATION:CentreTech Campus\, 16000 E Centretech Pkwy\, Aurora\, CO\, 80011\, United States
END:VEVENT
BEGIN:VEVENT
DTSTART;TZID=America/Denver:20250315T100000
DTEND;TZID=America/Denver:20250315T130000
DTSTAMP:20260424T081604
CREATED:20250303T182333Z
LAST-MODIFIED:20250722T213327Z
UID:10002865-1742032800-1742043600@ccaurora.edu
SUMMARY:OPEN HOUSE
DESCRIPTION:Your Future. Our Promise. \nOPEN HOUSE. \nAre you ready to start your college career and be on your way to achieving your educational goals? Then come to the Community College of Aurora’s Open House to learn about CCA’S wide variety of academic programs and support services\, and do everything you need to do to become a CCA student. \nRegister HERE! 
URL:https://ccaurora.edu/event/open-house/
END:VEVENT
BEGIN:VEVENT
DTSTART;TZID=America/Denver:20250313T140000
DTEND;TZID=America/Denver:20250313T180000
DTSTAMP:20260424T081604
CREATED:20250106T202140Z
LAST-MODIFIED:20250106T202140Z
UID:10002282-1741874400-1741888800@ccaurora.edu
SUMMARY:FAFSA & CASFA Rushes
DESCRIPTION:The CCA Financial Aid Office will be hosting special walk-in assistance with the FAFSA/CASFA Applications at the CentreTech Campus\, Admin Building. \nMonday\, March 3 | 10 A.M. – 1 P.M. | A103H\nFriday\, March 7 | 2 P.M. – 5 P.M. | A103H\nThursday\, March 13 | 2 P.M. – 6 P.M. | A103H\nMonday\, March 17 | 9 A.M. – 1 P.M. | A103H\nThursday\, March 27 | 2 P.M. – 5 P.M. | A103H \nPrefer to meet virtually? Call 303-352-8746\, text 303-552-5344 or email EOC@CCD.EDU\nIn-person appointment call 303-360-4709 or email financialaid.cca@ccaurora.edu
URL:https://ccaurora.edu/event/fafsa-casfa-rushes-3/2025-03-13/
LOCATION:CentreTech Campus\, 16000 E Centretech Pkwy\, Aurora\, CO\, 80011\, United States
END:VEVENT
BEGIN:VEVENT
DTSTART;TZID=America/Denver:20250313T140000
DTEND;TZID=America/Denver:20250313T150000
DTSTAMP:20260424T081604
CREATED:20250129T234804Z
LAST-MODIFIED:20250129T234804Z
UID:10002381-1741874400-1741878000@ccaurora.edu
SUMMARY:From Here to Career Virtual Series
DESCRIPTION:Join us every Thursday in February and March for our Career Virtual Series! Boost your skills\, expand your etwork\, and explore new opportunities – all from the comfort of your home. Don’t miss out! \nSchedule\nThursday\, February 6: Resume Building\nThursday\, February 13: Internship/Job Search\nThursday\, February 20: First Generation Success\nThursday\, February 27: Skills Employers Seek\nThursday\, March 6: Career Exploration\nThursday\, March 20: Acing the Interview\nThursday\, March 27: LinkedIn Profile/Personal Branding \n2 P.M. – 3 P.M.
URL:https://ccaurora.edu/event/from-here-to-career-virtual-series/2025-03-13/
LOCATION:Virtual
END:VEVENT
BEGIN:VEVENT
DTSTART;TZID=America/Denver:20250313T124500
DTEND;TZID=America/Denver:20250313T140000
DTSTAMP:20260424T081604
CREATED:20240626T155846Z
LAST-MODIFIED:20240626T155846Z
UID:10001111-1741869900-1741874400@ccaurora.edu
SUMMARY:Students of Christ 3:16 - Bible Study
DESCRIPTION:Wednesdays CentreTech Campus\nCLRM BLDG RM 102\n3 PM – 4:30 PM \nThursdays Lowry Campus\nWest Quad RM 218\n12:45 PM – 2 PM \nEmail Info: studentsofchrist.cca@ccaurora.edu
URL:https://ccaurora.edu/event/students-of-christ-316-bible-study-2/2025-03-13/
LOCATION:West Quad\, Lowry Campus
END:VEVENT
BEGIN:VEVENT
DTSTART;TZID=America/Denver:20250313T090000
DTEND;TZID=America/Denver:20250331T160000
DTSTAMP:20260424T081604
CREATED:20250310T172907Z
LAST-MODIFIED:20250310T172907Z
UID:10002869-1741856400-1743436800@ccaurora.edu
SUMMARY:Scholarship Workshop
DESCRIPTION:Scholarship Workshop \nThe CCA Financial Aid Office will be hosting special walk-in assistance with the scholarship with the Scholarship Application for the summer and Fall terms. \nOur upcoming workshops are designed just for you! \nThursday\, March 13: \n9:00 a.m. – 1 p.m. /A103H \nThursday\, March 27\n9 a.m. – 1 p.m. /A103H \nFriday\, March 28\n12 – 3 p.m. / A103H \nMonday\, March 31:\n10 a.m. – 12 p.m. & 2 p.m. – 4 p.m. / A103H
URL:https://ccaurora.edu/event/scholarship-workshop-3/
END:VEVENT
BEGIN:VEVENT
DTSTART;TZID=America/Denver:20250312T150000
DTEND;TZID=America/Denver:20250312T163000
DTSTAMP:20260424T081604
CREATED:20240626T154930Z
LAST-MODIFIED:20240626T155117Z
UID:10001053-1741791600-1741797000@ccaurora.edu
SUMMARY:Students of Christ 3:16 - Bible Study
DESCRIPTION:Wednesdays CentreTech Campus\nCLRM BLDG RM 102\n3 PM – 4:30 PM \nThursdays Lowry Campus\nWest Quad RM 218\n12:45 PM – 2 PM \nEmail Info: studentsofchrist.cca@ccaurora.edu
URL:https://ccaurora.edu/event/students-of-christ-316-bible-study/2025-03-12/
LOCATION:CentreTech Campus\, 16000 E Centretech Pkwy\, Aurora\, CO\, 80011\, United States
END:VEVENT
BEGIN:VEVENT
DTSTART;TZID=America/Denver:20250312T080000
DTEND;TZID=America/Denver:20250312T170000
DTSTAMP:20260424T081604
CREATED:20250312T162227Z
LAST-MODIFIED:20250312T162227Z
UID:10002877-1741766400-1741798800@ccaurora.edu
SUMMARY:Fall 2025 | Payment due
DESCRIPTION:
URL:https://ccaurora.edu/event/fall-2025-payment-due-2/
CATEGORIES:Payment-Deadlines
END:VEVENT
BEGIN:VEVENT
DTSTART;TZID=America/Denver:20250311T080000
DTEND;TZID=America/Denver:20250311T170000
DTSTAMP:20260424T081604
CREATED:20240624T214723Z
LAST-MODIFIED:20240624T214723Z
UID:10000955-1741680000-1741712400@ccaurora.edu
SUMMARY:Fall 2024 | Unpaid Balances Sent to Collections
DESCRIPTION:
URL:https://ccaurora.edu/event/fall-2024-unpaid-balances-sent-to-collections-2/
CATEGORIES:Important Academic Dates,Payment-Deadlines
END:VEVENT
BEGIN:VEVENT
DTSTART;TZID=America/Denver:20250310T080000
DTEND;TZID=America/Denver:20250315T170000
DTSTAMP:20260424T081604
CREATED:20230627T195601Z
LAST-MODIFIED:20240816T160818Z
UID:10000296-1741593600-1742058000@ccaurora.edu
SUMMARY:Spring Break (No Classes\, Campus Open)
DESCRIPTION:
URL:https://ccaurora.edu/event/spring-break-2/
CATEGORIES:Important Academic Dates
END:VEVENT
BEGIN:VEVENT
DTSTART;TZID=America/Denver:20250310T080000
DTEND;TZID=America/Denver:20250314T170000
DTSTAMP:20260424T081604
CREATED:20250306T171232Z
LAST-MODIFIED:20250306T171232Z
UID:10002867-1741593600-1741971600@ccaurora.edu
SUMMARY:CAFE CLOSED
DESCRIPTION:Cafe Closed for Spring Break \n(March 10 – 14)
URL:https://ccaurora.edu/event/cafe-closed/
END:VEVENT
BEGIN:VEVENT
DTSTART;TZID=America/Denver:20250310T080000
DTEND;TZID=America/Denver:20250310T170000
DTSTAMP:20260424T081604
CREATED:20240624T214417Z
LAST-MODIFIED:20240624T215620Z
UID:10000954-1741593600-1741626000@ccaurora.edu
SUMMARY:Spring 2025 | Hold Added to Accounts with Unpaid Balances
DESCRIPTION:
URL:https://ccaurora.edu/event/fall-2024-hold-added-to-accounts-with-unpaid-balances/
CATEGORIES:Important Academic Dates,Payment-Deadlines
END:VEVENT
BEGIN:VEVENT
DTSTART;TZID=America/Denver:20250310T080000
DTEND;TZID=America/Denver:20250310T170000
DTSTAMP:20260424T081605
CREATED:20230630T130122Z
LAST-MODIFIED:20230630T130845Z
UID:10000339-1741593600-1741626000@ccaurora.edu
SUMMARY:Fall 2025 Registration Now Open
DESCRIPTION:
URL:https://ccaurora.edu/event/fall-2025-registration-now-open/
CATEGORIES:Important Academic Dates
END:VEVENT
BEGIN:VEVENT
DTSTART;TZID=America/Denver:20250310T080000
DTEND;TZID=America/Denver:20250310T170000
DTSTAMP:20260424T081605
CREATED:20230630T130009Z
LAST-MODIFIED:20230630T130851Z
UID:10000338-1741593600-1741626000@ccaurora.edu
SUMMARY:Summer 2025 Registration Now Open
DESCRIPTION:
URL:https://ccaurora.edu/event/spring-2025-registration-now-open/
CATEGORIES:Important Academic Dates
END:VEVENT
BEGIN:VEVENT
DTSTART;TZID=America/Denver:20250307T140000
DTEND;TZID=America/Denver:20250307T180000
DTSTAMP:20260424T081605
CREATED:20250106T202140Z
LAST-MODIFIED:20250106T202140Z
UID:10002281-1741356000-1741370400@ccaurora.edu
SUMMARY:FAFSA & CASFA Rushes
DESCRIPTION:The CCA Financial Aid Office will be hosting special walk-in assistance with the FAFSA/CASFA Applications at the CentreTech Campus\, Admin Building. \nMonday\, March 3 | 10 A.M. – 1 P.M. | A103H\nFriday\, March 7 | 2 P.M. – 5 P.M. | A103H\nThursday\, March 13 | 2 P.M. – 6 P.M. | A103H\nMonday\, March 17 | 9 A.M. – 1 P.M. | A103H\nThursday\, March 27 | 2 P.M. – 5 P.M. | A103H \nPrefer to meet virtually? Call 303-352-8746\, text 303-552-5344 or email EOC@CCD.EDU\nIn-person appointment call 303-360-4709 or email financialaid.cca@ccaurora.edu
URL:https://ccaurora.edu/event/fafsa-casfa-rushes-3/2025-03-07/
LOCATION:CentreTech Campus\, 16000 E Centretech Pkwy\, Aurora\, CO\, 80011\, United States
END:VEVENT
BEGIN:VEVENT
DTSTART;TZID=America/Denver:20250306T140000
DTEND;TZID=America/Denver:20250306T150000
DTSTAMP:20260424T081605
CREATED:20250129T234804Z
LAST-MODIFIED:20250129T234804Z
UID:10002380-1741269600-1741273200@ccaurora.edu
SUMMARY:From Here to Career Virtual Series
DESCRIPTION:Join us every Thursday in February and March for our Career Virtual Series! Boost your skills\, expand your etwork\, and explore new opportunities – all from the comfort of your home. Don’t miss out! \nSchedule\nThursday\, February 6: Resume Building\nThursday\, February 13: Internship/Job Search\nThursday\, February 20: First Generation Success\nThursday\, February 27: Skills Employers Seek\nThursday\, March 6: Career Exploration\nThursday\, March 20: Acing the Interview\nThursday\, March 27: LinkedIn Profile/Personal Branding \n2 P.M. – 3 P.M.
URL:https://ccaurora.edu/event/from-here-to-career-virtual-series/2025-03-06/
LOCATION:Virtual
END:VEVENT
BEGIN:VEVENT
DTSTART;TZID=America/Denver:20250306T124500
DTEND;TZID=America/Denver:20250306T140000
DTSTAMP:20260424T081605
CREATED:20240626T155846Z
LAST-MODIFIED:20240626T155846Z
UID:10001110-1741265100-1741269600@ccaurora.edu
SUMMARY:Students of Christ 3:16 - Bible Study
DESCRIPTION:Wednesdays CentreTech Campus\nCLRM BLDG RM 102\n3 PM – 4:30 PM \nThursdays Lowry Campus\nWest Quad RM 218\n12:45 PM – 2 PM \nEmail Info: studentsofchrist.cca@ccaurora.edu
URL:https://ccaurora.edu/event/students-of-christ-316-bible-study-2/2025-03-06/
LOCATION:West Quad\, Lowry Campus
END:VEVENT
BEGIN:VEVENT
DTSTART;TZID=America/Denver:20250305T160000
DTEND;TZID=America/Denver:20250305T180000
DTSTAMP:20260424T081605
CREATED:20250130T000137Z
LAST-MODIFIED:20250722T214304Z
UID:10002386-1741190400-1741197600@ccaurora.edu
SUMMARY:Career Launch Networking Training
DESCRIPTION:Career Readiness Series \nCareer Launch Networking Training \nKickstart your career with our Career Launch Networking Training! Gain essential skills\, build your network\, and set yourself up for success. \nThree Week Workshop:\nWednesday\, February 19\, 26\, and March 5th.\n4 P.M. – 6 P.M. \nFor more information: careercoaching.readiness@aurora.edu
URL:https://ccaurora.edu/event/career-launch-networking-training/2025-03-05/
LOCATION:Virtual
END:VEVENT
BEGIN:VEVENT
DTSTART;TZID=America/Denver:20250305T150000
DTEND;TZID=America/Denver:20250305T163000
DTSTAMP:20260424T081605
CREATED:20240626T154930Z
LAST-MODIFIED:20240626T155117Z
UID:10001052-1741186800-1741192200@ccaurora.edu
SUMMARY:Students of Christ 3:16 - Bible Study
DESCRIPTION:Wednesdays CentreTech Campus\nCLRM BLDG RM 102\n3 PM – 4:30 PM \nThursdays Lowry Campus\nWest Quad RM 218\n12:45 PM – 2 PM \nEmail Info: studentsofchrist.cca@ccaurora.edu
URL:https://ccaurora.edu/event/students-of-christ-316-bible-study/2025-03-05/
LOCATION:CentreTech Campus\, 16000 E Centretech Pkwy\, Aurora\, CO\, 80011\, United States
END:VEVENT
BEGIN:VEVENT
DTSTART;TZID=America/Denver:20250305T110000
DTEND;TZID=America/Denver:20250305T140000
DTSTAMP:20260424T081605
CREATED:20250213T194243Z
LAST-MODIFIED:20250722T213649Z
UID:10002903-1741172400-1741183200@ccaurora.edu
SUMMARY:Foxy's Mini Mart
DESCRIPTION:Foxy’s Mini Mart \nA Free Food Market for CCA students and employees. \nLowry Studios \n11 A.M. – 4 P.M. \nSpring 2025\nWednesday\, February 19\nWednesday\, March 5\nWednesday\, March 19\nWednesday\, April 2\nMonday\, April 14\nWednesday\, April 30
URL:https://ccaurora.edu/event/foxys-mini-mart/2025-03-05/
END:VEVENT
BEGIN:VEVENT
DTSTART;TZID=America/Denver:20250304T170000
DTEND;TZID=America/Denver:20250304T180000
DTSTAMP:20260424T081605
CREATED:20250221T182748Z
LAST-MODIFIED:20250722T213859Z
UID:10002848-1741107600-1741111200@ccaurora.edu
SUMMARY:Student Development Workshop Series
DESCRIPTION:Hearts & Crafts\nFriday\, February 7 • 4- 6 P.M.\nCentreTech Campus\, Student Centre Building Rotunda\nBring your family for a heartwarming evening of fun\, creativity\, and love!\nThis family-friendly Valentine’s Day event is designed to create engaging\nand memorable moments together. \nThe Psychology of Money: Understanding Your Financial Mindset\nThursday\, February 20 • 1- 2 P.M.\nVirtual Workshop Zoom Link Below Scan QR Code\nDive into the fascinating intersection of psychology and personal finance in\nthis insightful workshop. This workshop will explore underlying emotions\,\nbeliefs and cognitive biases that shape our financial decisions. \nLinkedIn Learning & Interview Prep\nTuesday\, March 4 • 5- 6 P.M.\nCentreTech Campus\, Student Centre Building Rotunda \, S100\nMaster interview success with this LinkedIn Learning workshop. Gain key strategies\,\nboost confidence\, and leave a lasting impression. \nMonthly Study Skills Workshop with TRIO\nWednesday\, March 19 • 2- 5 P.M.\nCentreTech Campus\, Classroom Building\nNavigate FAFSA and scholarships with ease in this monthly workshop. Access expert tips\, essential\nresources\, and actionable guidance. \nGetting Crafty With Future Foxes\nFriday \, March 21 • 4- 7 P.M.\nCentreTech Campus\, Student Centre Building\, Rotunda S100\nEnjoy an evening with your little loved ones by making arts & crafts! Come paint a\ncanvas\, make friendship bracelet and have a foxtastic time! \nWellness Works Wonders With COSI\nThursday \, April 10 • 2- 3 P.M.\nCentreTech Campus\, Student Centre Building Rotunda \, S100\nIt is that time of the semester when you are preparing for finals week. Join us as we\ndiscuss wellness practices\, de-stress techniques and celebrating achievements.
URL:https://ccaurora.edu/event/student-development-workshop-series-3/2025-03-04/
LOCATION:CentreTech Campus\, 16000 E Centretech Pkwy\, Aurora\, CO\, 80011\, United States
END:VEVENT
END:VCALENDAR