BEGIN:VCALENDAR
VERSION:2.0
PRODID:-//Community College of Aurora - ECPv6.15.20//NONSGML v1.0//EN
CALSCALE:GREGORIAN
METHOD:PUBLISH
X-WR-CALNAME:Community College of Aurora
X-ORIGINAL-URL:https://ccaurora.edu
X-WR-CALDESC:Events for Community College of Aurora
REFRESH-INTERVAL;VALUE=DURATION:PT1H
X-Robots-Tag:noindex
X-PUBLISHED-TTL:PT1H
BEGIN:VTIMEZONE
TZID:America/Denver
BEGIN:DAYLIGHT
TZOFFSETFROM:-0700
TZOFFSETTO:-0600
TZNAME:MDT
DTSTART:20240310T090000
END:DAYLIGHT
BEGIN:STANDARD
TZOFFSETFROM:-0600
TZOFFSETTO:-0700
TZNAME:MST
DTSTART:20241103T080000
END:STANDARD
BEGIN:DAYLIGHT
TZOFFSETFROM:-0700
TZOFFSETTO:-0600
TZNAME:MDT
DTSTART:20250309T090000
END:DAYLIGHT
BEGIN:STANDARD
TZOFFSETFROM:-0600
TZOFFSETTO:-0700
TZNAME:MST
DTSTART:20251102T080000
END:STANDARD
BEGIN:DAYLIGHT
TZOFFSETFROM:-0700
TZOFFSETTO:-0600
TZNAME:MDT
DTSTART:20260308T090000
END:DAYLIGHT
BEGIN:STANDARD
TZOFFSETFROM:-0600
TZOFFSETTO:-0700
TZNAME:MST
DTSTART:20261101T080000
END:STANDARD
END:VTIMEZONE
BEGIN:VEVENT
DTSTART;TZID=America/Denver:20251021T123000
DTEND;TZID=America/Denver:20251021T140000
DTSTAMP:20260419T153818
CREATED:20251009T143544Z
LAST-MODIFIED:20251009T143544Z
UID:10003360-1761049800-1761055200@ccaurora.edu
SUMMARY:Agribusiness and Family Farms: CCA Sustainable Agriculture Lunch & Learn One!
DESCRIPTION:Farming Facts! Lively Discussion! Free Pizza! \n  \nTuesday\, October 21\, 12:30-2pm \nClassroom Building 207B
URL:https://ccaurora.edu/event/agribusiness-and-family-farms-cca-sustainable-agriculture-lunch-learn-one/
END:VEVENT
BEGIN:VEVENT
DTSTART;VALUE=DATE:20251021
DTEND;VALUE=DATE:20251022
DTSTAMP:20260419T153818
CREATED:20250819T143731Z
LAST-MODIFIED:20251124T225529Z
UID:10003046-1761004800-1761091199@ccaurora.edu
SUMMARY:Red Shirt Tuesday
DESCRIPTION:Wear your CCA red shirt every Tuesday to be entered into a raffle for a free meal at the cafe!! \n  \nStop by the division of Student Success or fill out the form HERE \nCTC: Student Center S101 \nLowry Studios: Room 112 \nCentennial: Foxy’s Resource Center
URL:https://ccaurora.edu/event/red-shirt-tuesday/2025-10-21/
END:VEVENT
BEGIN:VEVENT
DTSTART;TZID=America/Denver:20251017T100000
DTEND;TZID=America/Denver:20251017T120000
DTSTAMP:20260419T153818
CREATED:20251002T153930Z
LAST-MODIFIED:20251002T153930Z
UID:10003345-1760695200-1760702400@ccaurora.edu
SUMMARY:3D Printing Workshop
DESCRIPTION:Want to try 3D design and printing? In this beginner-friendly workshop\, you’ll learn how to use TinkerCAD to design a small model rocket. Then\, learn how to prepare your digital design for printing\, choose a filament color\, and watch it print. \nNo previous experience necessary and all majors are welcome! \nSeating is limited and spots will be awarded on a first-come\, first-served basis. \nRegister here.
URL:https://ccaurora.edu/event/3d-printing-workshop-2/
END:VEVENT
BEGIN:VEVENT
DTSTART;TZID=America/Denver:20251016T110000
DTEND;TZID=America/Denver:20251016T130000
DTSTAMP:20260419T153818
CREATED:20251015T144302Z
LAST-MODIFIED:20251030T192059Z
UID:10003363-1760612400-1760619600@ccaurora.edu
SUMMARY:Scholarship Workshop
DESCRIPTION:Get walk-in assistance with the Scholarship Application for the Spring term hosted from the CCA Financial Aid Office.
URL:https://ccaurora.edu/event/scholarship-workshop/2025-10-16/
LOCATION:CentreTech Campus Administration Building 103H
END:VEVENT
BEGIN:VEVENT
DTSTART;TZID=America/Denver:20251016T103000
DTEND;TZID=America/Denver:20251016T133000
DTSTAMP:20260419T153818
CREATED:20250819T143226Z
LAST-MODIFIED:20250819T143226Z
UID:10003034-1760610600-1760621400@ccaurora.edu
SUMMARY:Foxy's Mobile Market
DESCRIPTION:
URL:https://ccaurora.edu/event/foxys-mobile-market-12/
END:VEVENT
BEGIN:VEVENT
DTSTART;TZID=America/Denver:20251016T100000
DTEND;TZID=America/Denver:20251016T130000
DTSTAMP:20260419T153818
CREATED:20251009T143046Z
LAST-MODIFIED:20251009T143046Z
UID:10003358-1760608800-1760619600@ccaurora.edu
SUMMARY:Transfer Event: CSU Application Day
DESCRIPTION:CAST 132 \n10-1pm
URL:https://ccaurora.edu/event/transfer-event-csu-application-day/
END:VEVENT
BEGIN:VEVENT
DTSTART;TZID=America/Denver:20251015T120000
DTEND;TZID=America/Denver:20251015T140000
DTSTAMP:20260419T153818
CREATED:20250926T151602Z
LAST-MODIFIED:20250926T151602Z
UID:10003334-1760529600-1760536800@ccaurora.edu
SUMMARY:Somos Familia Celebration
DESCRIPTION:Spend time together over a meal\, music\, and activities!
URL:https://ccaurora.edu/event/somos-familia-celebration/
END:VEVENT
BEGIN:VEVENT
DTSTART;TZID=America/Denver:20251014T123000
DTEND;TZID=America/Denver:20251014T150000
DTSTAMP:20260419T153818
CREATED:20251009T142919Z
LAST-MODIFIED:20251009T142919Z
UID:10003357-1760445000-1760454000@ccaurora.edu
SUMMARY:Transfer Event: School of Mines 1:1 Appointments
DESCRIPTION:CTC- Flex Space A116 \n12:30-3pm
URL:https://ccaurora.edu/event/transfer-event-school-of-mines-11-appointments/
END:VEVENT
BEGIN:VEVENT
DTSTART;TZID=America/Denver:20251014T120000
DTEND;TZID=America/Denver:20251014T133000
DTSTAMP:20260419T153818
CREATED:20250918T192659Z
LAST-MODIFIED:20250918T192659Z
UID:10003327-1760443200-1760448600@ccaurora.edu
SUMMARY:Budgeting for The Holidays
DESCRIPTION:Learn how to plan for gift buying\, inexpensive dinners\, & more.
URL:https://ccaurora.edu/event/budgeting-for-the-holidays/
LOCATION:CentreTech Campus Student Center Building Room S10C
END:VEVENT
BEGIN:VEVENT
DTSTART;TZID=America/Denver:20251014T100000
DTEND;TZID=America/Denver:20251014T120000
DTSTAMP:20260419T153818
CREATED:20251009T142810Z
LAST-MODIFIED:20251009T142810Z
UID:10003356-1760436000-1760443200@ccaurora.edu
SUMMARY:Transfer Events: School of Mines Tabling
DESCRIPTION:CTC- CAST Lobby \n10-12pm
URL:https://ccaurora.edu/event/transfer-events-school-of-mines-tabling/
END:VEVENT
BEGIN:VEVENT
DTSTART;VALUE=DATE:20251014
DTEND;VALUE=DATE:20251015
DTSTAMP:20260419T153818
CREATED:20250819T143731Z
LAST-MODIFIED:20251124T225529Z
UID:10003045-1760400000-1760486399@ccaurora.edu
SUMMARY:Red Shirt Tuesday
DESCRIPTION:Wear your CCA red shirt every Tuesday to be entered into a raffle for a free meal at the cafe!! \n  \nStop by the division of Student Success or fill out the form HERE \nCTC: Student Center S101 \nLowry Studios: Room 112 \nCentennial: Foxy’s Resource Center
URL:https://ccaurora.edu/event/red-shirt-tuesday/2025-10-14/
END:VEVENT
BEGIN:VEVENT
DTSTART;TZID=America/Denver:20251009T150000
DTEND;TZID=America/Denver:20251009T170000
DTSTAMP:20260419T153818
CREATED:20250926T151403Z
LAST-MODIFIED:20250926T151403Z
UID:10003332-1760022000-1760029200@ccaurora.edu
SUMMARY:Hispanic Heritage Month Table
DESCRIPTION:Come by to learn and win prizes!
URL:https://ccaurora.edu/event/hispanic-heritage-month-table/
LOCATION:Lowry Studios Lobby
END:VEVENT
BEGIN:VEVENT
DTSTART;TZID=America/Denver:20251009T110000
DTEND;TZID=America/Denver:20251009T120000
DTSTAMP:20260419T153818
CREATED:20251009T142554Z
LAST-MODIFIED:20251009T142554Z
UID:10003355-1760007600-1760011200@ccaurora.edu
SUMMARY:Transfer Event: CU Boulder Workshop
DESCRIPTION:CTC- Rotunda \n11-12pm
URL:https://ccaurora.edu/event/transfer-event-cu-boulder-workshop/
END:VEVENT
BEGIN:VEVENT
DTSTART;TZID=America/Denver:20251009T110000
DTEND;TZID=America/Denver:20251009T120000
DTSTAMP:20260419T153818
CREATED:20251002T145801Z
LAST-MODIFIED:20251002T145801Z
UID:10003344-1760007600-1760011200@ccaurora.edu
SUMMARY:Transfer 101
DESCRIPTION:Free food provided!
URL:https://ccaurora.edu/event/transfer-101/
END:VEVENT
BEGIN:VEVENT
DTSTART;TZID=America/Denver:20251009T080000
DTEND;TZID=America/Denver:20251009T170000
DTSTAMP:20260419T153818
CREATED:20250926T151505Z
LAST-MODIFIED:20250926T151505Z
UID:10003333-1759996800-1760029200@ccaurora.edu
SUMMARY:Colors of Your Heritage
DESCRIPTION:Stop by for bracelet making!
URL:https://ccaurora.edu/event/colors-of-your-heritage/
LOCATION:Centennial Campus for Healthcare and First Responders\, 12650 E. Arapahoe Rd.\, Suite 100\, Centennial\, CO\, 80112\, United States
END:VEVENT
BEGIN:VEVENT
DTSTART;VALUE=DATE:20251009
DTEND;VALUE=DATE:20251010
DTSTAMP:20260419T153818
CREATED:20251001T225642Z
LAST-MODIFIED:20251112T225345Z
UID:10003343-1759968000-1760054399@ccaurora.edu
SUMMARY:TimelyCare Launch
DESCRIPTION:CCA Mental Health and Counseling Services partners with TimelyCare to provide virtual mental health care and therapy sessions to currently-enrolled students. \nLearn how to get started with TimelyCare here. 
URL:https://ccaurora.edu/event/timelycare-launch/
END:VEVENT
BEGIN:VEVENT
DTSTART;TZID=America/Denver:20251008T120000
DTEND;TZID=America/Denver:20251008T140000
DTSTAMP:20260419T153818
CREATED:20251002T192122Z
LAST-MODIFIED:20251002T192122Z
UID:10003347-1759924800-1759932000@ccaurora.edu
SUMMARY:Foxy's De-stress Day: Lowry Studios Mini Mart
DESCRIPTION:Join us for a break as you prepare for midterms! \n  \n12Pm Lowry Studios 50s Cafe
URL:https://ccaurora.edu/event/foxys-de-stress-day-lowry-studios-mini-mart/
END:VEVENT
BEGIN:VEVENT
DTSTART;TZID=America/Denver:20251007T160000
DTEND;TZID=America/Denver:20251007T170000
DTSTAMP:20260419T153818
CREATED:20250926T151305Z
LAST-MODIFIED:20250926T151305Z
UID:10003331-1759852800-1759856400@ccaurora.edu
SUMMARY:Civic Literacy Chat
DESCRIPTION:Snack and chat while you learn!
URL:https://ccaurora.edu/event/civic-literacy-chat/
END:VEVENT
BEGIN:VEVENT
DTSTART;TZID=America/Denver:20251007T140000
DTEND;TZID=America/Denver:20251007T160000
DTSTAMP:20260419T153818
CREATED:20250822T145413Z
LAST-MODIFIED:20250822T145413Z
UID:10003310-1759845600-1759852800@ccaurora.edu
SUMMARY:Math Workshop Series: Factoring Trinomials
DESCRIPTION:Strengthen your quadratic skills by learning how to factor trinomials\, recognize common patterns\, and solve equations using factoring methods. \nSign up HERE \nTuesday\, Oct 7 \n2 -4 p.m. \nClassroom 212
URL:https://ccaurora.edu/event/math-workshop-series-factoring-trinomials-3/
END:VEVENT
BEGIN:VEVENT
DTSTART;TZID=America/Denver:20251007T123000
DTEND;TZID=America/Denver:20251007T133000
DTSTAMP:20260419T153818
CREATED:20251002T222804Z
LAST-MODIFIED:20251002T222804Z
UID:10003348-1759840200-1759843800@ccaurora.edu
SUMMARY:Coming Out Day Panel
DESCRIPTION:Hear from a panel of CCA faculty and staff from across the LGBTQ+ community as they share personal stories of coming out\, the challenges they faced\, the support they found\, and how embracing the the truth changed their lives.
URL:https://ccaurora.edu/event/coming-out-day-panel/
LOCATION:CentreTech Campus Fine Arts Building Heritage Hall F100
END:VEVENT
BEGIN:VEVENT
DTSTART;TZID=America/Denver:20251007T100000
DTEND;TZID=America/Denver:20251007T110000
DTSTAMP:20260419T153818
CREATED:20251001T225424Z
LAST-MODIFIED:20251001T225424Z
UID:10003342-1759831200-1759834800@ccaurora.edu
SUMMARY:Foxy's De-stress Day: Breakfast Bar
DESCRIPTION:Join us for a break as you prepare for the rest of your semester!
URL:https://ccaurora.edu/event/foxys-de-stress-day-breakfast-bar/
LOCATION:Centretech Campus Classroom Building Lobby
END:VEVENT
BEGIN:VEVENT
DTSTART;VALUE=DATE:20251007
DTEND;VALUE=DATE:20251008
DTSTAMP:20260419T153818
CREATED:20250819T143731Z
LAST-MODIFIED:20251124T225529Z
UID:10003044-1759795200-1759881599@ccaurora.edu
SUMMARY:Red Shirt Tuesday
DESCRIPTION:Wear your CCA red shirt every Tuesday to be entered into a raffle for a free meal at the cafe!! \n  \nStop by the division of Student Success or fill out the form HERE \nCTC: Student Center S101 \nLowry Studios: Room 112 \nCentennial: Foxy’s Resource Center
URL:https://ccaurora.edu/event/red-shirt-tuesday/2025-10-07/
END:VEVENT
BEGIN:VEVENT
DTSTART;TZID=America/Denver:20251006T130000
DTEND;TZID=America/Denver:20251006T150000
DTSTAMP:20260419T153818
CREATED:20251001T225306Z
LAST-MODIFIED:20251001T225306Z
UID:10003341-1759755600-1759762800@ccaurora.edu
SUMMARY:Foxy De-Stress Day: Fall Crafting
DESCRIPTION:Join us for a break as you prepare for the rest of your semester!
URL:https://ccaurora.edu/event/foxy-de-stress-day-fall-crafting/
END:VEVENT
BEGIN:VEVENT
DTSTART;TZID=America/Denver:20251006T110000
DTEND;TZID=America/Denver:20251006T120000
DTSTAMP:20260419T153818
CREATED:20251002T191849Z
LAST-MODIFIED:20251002T192008Z
UID:10003346-1759748400-1759752000@ccaurora.edu
SUMMARY:Foxy's De- stress Days: Breakfast Bar
DESCRIPTION:Join us for a break as you prepare for midterms! \nBreakfast Bar \n  \n11AM Lowry Studios Lobby
URL:https://ccaurora.edu/event/foxys-de-stress-days/
END:VEVENT
BEGIN:VEVENT
DTSTART;TZID=America/Denver:20251006T080000
DTEND;TZID=America/Denver:20251006T170000
DTSTAMP:20260419T153818
CREATED:20251006T215700Z
LAST-MODIFIED:20251006T215700Z
UID:10003350-1759737600-1759770000@ccaurora.edu
SUMMARY:CSU Application Day
DESCRIPTION:Interested in transferring to Colorado State University? We’re here to help you complete your admissions application! \nQuestions? Email vryona.johns@ccaurora.edu
URL:https://ccaurora.edu/event/csu-application-day/
LOCATION:CentreTech Campus CAST Building 132
END:VEVENT
BEGIN:VEVENT
DTSTART;TZID=America/Denver:20251006T080000
DTEND;TZID=America/Denver:20251006T170000
DTSTAMP:20260419T153818
CREATED:20240626T162823Z
LAST-MODIFIED:20240626T162823Z
UID:10001137-1759737600-1759770000@ccaurora.edu
SUMMARY:Fall 2025 | Hold Added to Accounts with Outstanding Balances
DESCRIPTION:
URL:https://ccaurora.edu/event/fall-2025-hold-added-to-accounts-with-outstanding-balances/
CATEGORIES:Important Academic Dates,Payment-Deadlines
END:VEVENT
BEGIN:VEVENT
DTSTART;VALUE=DATE:20251006
DTEND;VALUE=DATE:20251007
DTSTAMP:20260419T153818
CREATED:20250312T162759Z
LAST-MODIFIED:20250312T162902Z
UID:10002879-1759708800-1759795199@ccaurora.edu
SUMMARY:Fall 2025 | Holds added to accounts with outstanding balances
DESCRIPTION:
URL:https://ccaurora.edu/event/fall-2025-holds-added-to-accounts-with-outstanding-balances/
CATEGORIES:Payment-Deadlines
END:VEVENT
BEGIN:VEVENT
DTSTART;TZID=America/Denver:20251003T100000
DTEND;TZID=America/Denver:20251003T120000
DTSTAMP:20260419T153818
CREATED:20250822T145227Z
LAST-MODIFIED:20250822T145227Z
UID:10003309-1759485600-1759492800@ccaurora.edu
SUMMARY:Math Workshop Series: Factoring Trinomials
DESCRIPTION:Strengthen your quadratic skills by learning how to factor trinomials\, recognize common patterns\, and solve equations using factoring methods. \nSign up HERE \nFriday\, Oct 3 \n10-12 p.m. \nCAST 130
URL:https://ccaurora.edu/event/math-workshop-series-factoring-trinomials-2/
END:VEVENT
BEGIN:VEVENT
DTSTART;VALUE=DATE:20251003
DTEND;VALUE=DATE:20251004
DTSTAMP:20260419T153818
CREATED:20250312T161313Z
LAST-MODIFIED:20250312T161313Z
UID:10002875-1759449600-1759535999@ccaurora.edu
SUMMARY:Summer 2025 | Unpaid balances sent to collections
DESCRIPTION:
URL:https://ccaurora.edu/event/summer-2025-unpaid-balances-sent-to-collections-2/
CATEGORIES:Payment-Deadlines
END:VEVENT
BEGIN:VEVENT
DTSTART;TZID=America/Denver:20251002T130000
DTEND;TZID=America/Denver:20251002T170000
DTSTAMP:20260419T153818
CREATED:20250916T221301Z
LAST-MODIFIED:20250917T175237Z
UID:10003323-1759410000-1759424400@ccaurora.edu
SUMMARY:Scholarship Workshop and FASFA Rush
DESCRIPTION:Bring your laptop and writing skills! \nBy completing the Free Application for Federal Student Aid (FAFSA) early\, you may be eligible for additional funding and scholarship opportunities. \n(Sponsored by the Credit Union of Colorado)
URL:https://ccaurora.edu/event/spring-2026-scholarship-workshop/
LOCATION:CentreTech Campus Fine Arts Building Heritage Hall F100
END:VEVENT
END:VCALENDAR