BEGIN:VCALENDAR
VERSION:2.0
PRODID:-//Community College of Aurora - ECPv6.15.20//NONSGML v1.0//EN
CALSCALE:GREGORIAN
METHOD:PUBLISH
X-WR-CALNAME:Community College of Aurora
X-ORIGINAL-URL:https://ccaurora.edu
X-WR-CALDESC:Events for Community College of Aurora
REFRESH-INTERVAL;VALUE=DURATION:PT1H
X-Robots-Tag:noindex
X-PUBLISHED-TTL:PT1H
BEGIN:VTIMEZONE
TZID:America/Denver
BEGIN:DAYLIGHT
TZOFFSETFROM:-0700
TZOFFSETTO:-0600
TZNAME:MDT
DTSTART:20240310T090000
END:DAYLIGHT
BEGIN:STANDARD
TZOFFSETFROM:-0600
TZOFFSETTO:-0700
TZNAME:MST
DTSTART:20241103T080000
END:STANDARD
BEGIN:DAYLIGHT
TZOFFSETFROM:-0700
TZOFFSETTO:-0600
TZNAME:MDT
DTSTART:20250309T090000
END:DAYLIGHT
BEGIN:STANDARD
TZOFFSETFROM:-0600
TZOFFSETTO:-0700
TZNAME:MST
DTSTART:20251102T080000
END:STANDARD
BEGIN:DAYLIGHT
TZOFFSETFROM:-0700
TZOFFSETTO:-0600
TZNAME:MDT
DTSTART:20260308T090000
END:DAYLIGHT
BEGIN:STANDARD
TZOFFSETFROM:-0600
TZOFFSETTO:-0700
TZNAME:MST
DTSTART:20261101T080000
END:STANDARD
END:VTIMEZONE
BEGIN:VEVENT
DTSTART;TZID=America/Denver:20250404T100000
DTEND;TZID=America/Denver:20250404T170000
DTSTAMP:20260422T025728
CREATED:20250319T162540Z
LAST-MODIFIED:20250319T162540Z
UID:10002912-1743760800-1743786000@ccaurora.edu
SUMMARY:Denver Museum of Nature and Science
DESCRIPTION:Denver Museum of Nature and Science\nCome explore… with CCA Space Grant
URL:https://ccaurora.edu/event/denver-museum-of-nature-and-science/
END:VEVENT
BEGIN:VEVENT
DTSTART;TZID=America/Denver:20250403T160000
DTEND;TZID=America/Denver:20250403T190000
DTSTAMP:20260422T025728
CREATED:20250109T201017Z
LAST-MODIFIED:20250109T201017Z
UID:10002288-1743696000-1743706800@ccaurora.edu
SUMMARY:2025 Grad Fair!
DESCRIPTION:TUESDAY\, APRIL 1 \n12 – 3 p.m.\nLowry Campus\nWest Quad\, Bergren Room \nor \nTHURSDAY\, APRIL 3 \n4 – 7 p.m. CentreTech Campus Student Center\, Rotunda\nPick up your cap and gown — Get ready to shine at the ceremony!\nRecord a message for your loved ones to be played at the commencement!\nPurchase graduation announcements\, invitations\, and memorabilia — Keep the memories alive! \n\n\n\n\n 
URL:https://ccaurora.edu/event/2025-grad-fair/2025-04-03/
END:VEVENT
BEGIN:VEVENT
DTSTART;TZID=America/Denver:20250403T130000
DTEND;TZID=America/Denver:20250403T140000
DTSTAMP:20260422T025728
CREATED:20250227T170352Z
LAST-MODIFIED:20250722T212748Z
UID:10002855-1743685200-1743688800@ccaurora.edu
SUMMARY:Alex Bovaird
DESCRIPTION:An In-Person Conversation with The White Lotus Costume Designer. \nSeriesFest in collaboration with cca invites you to an exclusive conversation with award-winning costume designer behind HBO’s The White Lotus\, Alex Bovaird. \nDive into the creative process of crafting iconic looks that define characters and enhance storytelling. Gain insights into designing for diverse settings and characters\, the collaboration between costume design & production\, as well as building a career in the entertainment industry. \nThis is a rare opportunity to learn firsthand from a leading industry professional. \nWe look forward to seeing you there!
URL:https://ccaurora.edu/event/alex-bovaird/
END:VEVENT
BEGIN:VEVENT
DTSTART;TZID=America/Denver:20250403T124500
DTEND;TZID=America/Denver:20250403T140000
DTSTAMP:20260422T025728
CREATED:20240626T155846Z
LAST-MODIFIED:20240626T155846Z
UID:10001114-1743684300-1743688800@ccaurora.edu
SUMMARY:Students of Christ 3:16 - Bible Study
DESCRIPTION:Wednesdays CentreTech Campus\nCLRM BLDG RM 102\n3 PM – 4:30 PM \nThursdays Lowry Campus\nWest Quad RM 218\n12:45 PM – 2 PM \nEmail Info: studentsofchrist.cca@ccaurora.edu
URL:https://ccaurora.edu/event/students-of-christ-316-bible-study-2/2025-04-03/
LOCATION:West Quad\, Lowry Campus
END:VEVENT
BEGIN:VEVENT
DTSTART;TZID=America/Denver:20250402T150000
DTEND;TZID=America/Denver:20250402T163000
DTSTAMP:20260422T025728
CREATED:20240626T154930Z
LAST-MODIFIED:20240626T155117Z
UID:10001056-1743606000-1743611400@ccaurora.edu
SUMMARY:Students of Christ 3:16 - Bible Study
DESCRIPTION:Wednesdays CentreTech Campus\nCLRM BLDG RM 102\n3 PM – 4:30 PM \nThursdays Lowry Campus\nWest Quad RM 218\n12:45 PM – 2 PM \nEmail Info: studentsofchrist.cca@ccaurora.edu
URL:https://ccaurora.edu/event/students-of-christ-316-bible-study/2025-04-02/
LOCATION:CentreTech Campus\, 16000 E Centretech Pkwy\, Aurora\, CO\, 80011\, United States
END:VEVENT
BEGIN:VEVENT
DTSTART;TZID=America/Denver:20250402T110000
DTEND;TZID=America/Denver:20250402T140000
DTSTAMP:20260422T025728
CREATED:20250213T194243Z
LAST-MODIFIED:20250722T213649Z
UID:10002905-1743591600-1743602400@ccaurora.edu
SUMMARY:Foxy's Mini Mart
DESCRIPTION:Foxy’s Mini Mart \nA Free Food Market for CCA students and employees. \nLowry Studios \n11 A.M. – 4 P.M. \nSpring 2025\nWednesday\, February 19\nWednesday\, March 5\nWednesday\, March 19\nWednesday\, April 2\nMonday\, April 14\nWednesday\, April 30
URL:https://ccaurora.edu/event/foxys-mini-mart/2025-04-02/
END:VEVENT
BEGIN:VEVENT
DTSTART;TZID=America/Denver:20250401T120000
DTEND;TZID=America/Denver:20250401T150000
DTSTAMP:20260422T025728
CREATED:20250109T201017Z
LAST-MODIFIED:20250109T201017Z
UID:10002287-1743508800-1743519600@ccaurora.edu
SUMMARY:2025 Grad Fair!
DESCRIPTION:TUESDAY\, APRIL 1 \n12 – 3 p.m.\nLowry Campus\nWest Quad\, Bergren Room \nor \nTHURSDAY\, APRIL 3 \n4 – 7 p.m. CentreTech Campus Student Center\, Rotunda\nPick up your cap and gown — Get ready to shine at the ceremony!\nRecord a message for your loved ones to be played at the commencement!\nPurchase graduation announcements\, invitations\, and memorabilia — Keep the memories alive! \n\n\n\n\n 
URL:https://ccaurora.edu/event/2025-grad-fair/2025-04-01/
END:VEVENT
BEGIN:VEVENT
DTSTART;TZID=America/Denver:20250331T110000
DTEND;TZID=America/Denver:20250331T110000
DTSTAMP:20260422T025728
CREATED:20250324T172920Z
LAST-MODIFIED:20250722T212924Z
UID:10003014-1743418800-1743418800@ccaurora.edu
SUMMARY:Trans Day of Visibility
DESCRIPTION:Trans Day of Visibility \nMonday\, March 31 – 11 A.M to 1 P.M \nCelebrate\, Support\, and Learn – Join us for Transgender Day of Visibility!\nFood\, Stickers\, Books\, and allyship information will be available. \nCentreTech Campus\nStudent Center\nCulture Center \nContact Information:\ndei.cca@ccaurora.edu\n303-361-7871
URL:https://ccaurora.edu/event/trans-day-of-visibility/
END:VEVENT
BEGIN:VEVENT
DTSTART;TZID=America/Denver:20250327T140000
DTEND;TZID=America/Denver:20250327T170000
DTSTAMP:20260422T025729
CREATED:20250106T202140Z
LAST-MODIFIED:20250106T202140Z
UID:10002284-1743084000-1743094800@ccaurora.edu
SUMMARY:FAFSA & CASFA Rushes
DESCRIPTION:The CCA Financial Aid Office will be hosting special walk-in assistance with the FAFSA/CASFA Applications at the CentreTech Campus\, Admin Building. \nMonday\, March 3 | 10 A.M. – 1 P.M. | A103H\nFriday\, March 7 | 2 P.M. – 5 P.M. | A103H\nThursday\, March 13 | 2 P.M. – 6 P.M. | A103H\nMonday\, March 17 | 9 A.M. – 1 P.M. | A103H\nThursday\, March 27 | 2 P.M. – 5 P.M. | A103H \nPrefer to meet virtually? Call 303-352-8746\, text 303-552-5344 or email EOC@CCD.EDU\nIn-person appointment call 303-360-4709 or email financialaid.cca@ccaurora.edu
URL:https://ccaurora.edu/event/fafsa-casfa-rushes-3/2025-03-27/
LOCATION:CentreTech Campus\, 16000 E Centretech Pkwy\, Aurora\, CO\, 80011\, United States
END:VEVENT
BEGIN:VEVENT
DTSTART;TZID=America/Denver:20250327T140000
DTEND;TZID=America/Denver:20250327T150000
DTSTAMP:20260422T025729
CREATED:20250129T234804Z
LAST-MODIFIED:20250129T234804Z
UID:10002383-1743084000-1743087600@ccaurora.edu
SUMMARY:From Here to Career Virtual Series
DESCRIPTION:Join us every Thursday in February and March for our Career Virtual Series! Boost your skills\, expand your etwork\, and explore new opportunities – all from the comfort of your home. Don’t miss out! \nSchedule\nThursday\, February 6: Resume Building\nThursday\, February 13: Internship/Job Search\nThursday\, February 20: First Generation Success\nThursday\, February 27: Skills Employers Seek\nThursday\, March 6: Career Exploration\nThursday\, March 20: Acing the Interview\nThursday\, March 27: LinkedIn Profile/Personal Branding \n2 P.M. – 3 P.M.
URL:https://ccaurora.edu/event/from-here-to-career-virtual-series/2025-03-27/
LOCATION:Virtual
END:VEVENT
BEGIN:VEVENT
DTSTART;TZID=America/Denver:20250327T124500
DTEND;TZID=America/Denver:20250327T140000
DTSTAMP:20260422T025729
CREATED:20240626T155846Z
LAST-MODIFIED:20240626T155846Z
UID:10001113-1743079500-1743084000@ccaurora.edu
SUMMARY:Students of Christ 3:16 - Bible Study
DESCRIPTION:Wednesdays CentreTech Campus\nCLRM BLDG RM 102\n3 PM – 4:30 PM \nThursdays Lowry Campus\nWest Quad RM 218\n12:45 PM – 2 PM \nEmail Info: studentsofchrist.cca@ccaurora.edu
URL:https://ccaurora.edu/event/students-of-christ-316-bible-study-2/2025-03-27/
LOCATION:West Quad\, Lowry Campus
END:VEVENT
BEGIN:VEVENT
DTSTART;TZID=America/Denver:20250326T170000
DTEND;TZID=America/Denver:20250403T180000
DTSTAMP:20260422T025729
CREATED:20250318T155451Z
LAST-MODIFIED:20250318T155451Z
UID:10002909-1743008400-1743703200@ccaurora.edu
SUMMARY:SPEED NETWORKING WORKSHOP
DESCRIPTION:SPEED NETWORKING WORKSHOP \nWEDNESDAY\, MARCH 26\, 5-6 P.M. STUDENT CENTER \nCENTRETECH CAMPUS\, ROTUNDA \nJOIN US FOR A FUN\, INTERACTIVE SESSION TO LEARN HOW TO CRAFT \nAND DELIVER A COMPELLING ELEVATOR PITCH! PRACTICE WITH FELLOW \nSTUDENTS IN A DYNAMIC SPEED NETWORKING EVENT TO BOOST YOUR \nCOMMUNICATION SKILLS AND CONFIDENCE. DON’T MISS OUT—COME \nTO LEARN AND CONNECT! \nFor more information contact \ncareercoaching.readiness@ccaurora.edu
URL:https://ccaurora.edu/event/speed-networking-workshop/
END:VEVENT
BEGIN:VEVENT
DTSTART;TZID=America/Denver:20250326T170000
DTEND;TZID=America/Denver:20250326T180000
DTSTAMP:20260422T025729
CREATED:20250122T235744Z
LAST-MODIFIED:20250129T233933Z
UID:10002374-1743008400-1743012000@ccaurora.edu
SUMMARY:Career Readiness Workshop Series
DESCRIPTION:Join our Career Readiness Workshop Series! Get expert tips\, sharpen your skills\, and prepare your next career move. \nSchedule\nTuesday\, January 28: Resume and Vision Board\nTuesday\, March 4:LinkedIn Learning and Interview Workshop\nTuesday\, March 25: Internships and Interview Workshop\nWednesday\, March 26: Speed Networking Workshop (Elevator Pitch) \n5 P.M. – 6 P.M.\nCentreTech Campus\nStudent Center\, Rotunda S100
URL:https://ccaurora.edu/event/career-readiness-workshop-series/2025-03-26/
LOCATION:Centretech Campus\, Student Center Building\, Rotunda (S100)
END:VEVENT
BEGIN:VEVENT
DTSTART;TZID=America/Denver:20250326T150000
DTEND;TZID=America/Denver:20250326T163000
DTSTAMP:20260422T025729
CREATED:20240626T154930Z
LAST-MODIFIED:20240626T155117Z
UID:10001055-1743001200-1743006600@ccaurora.edu
SUMMARY:Students of Christ 3:16 - Bible Study
DESCRIPTION:Wednesdays CentreTech Campus\nCLRM BLDG RM 102\n3 PM – 4:30 PM \nThursdays Lowry Campus\nWest Quad RM 218\n12:45 PM – 2 PM \nEmail Info: studentsofchrist.cca@ccaurora.edu
URL:https://ccaurora.edu/event/students-of-christ-316-bible-study/2025-03-26/
LOCATION:CentreTech Campus\, 16000 E Centretech Pkwy\, Aurora\, CO\, 80011\, United States
END:VEVENT
BEGIN:VEVENT
DTSTART;TZID=America/Denver:20250325T170000
DTEND;TZID=America/Denver:20250325T180000
DTSTAMP:20260422T025729
CREATED:20250314T165045Z
LAST-MODIFIED:20250314T165119Z
UID:10002902-1742922000-1742925600@ccaurora.edu
SUMMARY:Internship Search & Interview Workshop
DESCRIPTION:Unlock Your Future: Internship Search & Interview Workshop \nJoin us for an internship search and interview workshop that will equip you with essential skills for success. Gain insight into effective job search strategies and master the interview process. Boost you confidence\, connect with peers\, and take actionable steps toward securing your ideal internship. \nTuesday\, March 25\n5 P.M. – 6 P.M.\nCentreTech Campus\, Student Center\nRotunda S100 \nFor questions\, comments\, or concerns\, please contact careercoaching.readiness@ccaurora.edu
URL:https://ccaurora.edu/event/internship-search-interview-workshop/
LOCATION:Centretech Campus\, Student Center Building\, Rotunda (S100)
ATTACH;FMTTYPE=application/pdf:https://ccaurora.edu/wp-content/uploads/2025/03/Career-Readiness-Internship-Interview-Workshop-5-3.13.2025pdf.pdf
END:VEVENT
BEGIN:VEVENT
DTSTART;TZID=America/Denver:20250325T170000
DTEND;TZID=America/Denver:20250325T180000
DTSTAMP:20260422T025729
CREATED:20250122T235744Z
LAST-MODIFIED:20250129T233933Z
UID:10002373-1742922000-1742925600@ccaurora.edu
SUMMARY:Career Readiness Workshop Series
DESCRIPTION:Join our Career Readiness Workshop Series! Get expert tips\, sharpen your skills\, and prepare your next career move. \nSchedule\nTuesday\, January 28: Resume and Vision Board\nTuesday\, March 4:LinkedIn Learning and Interview Workshop\nTuesday\, March 25: Internships and Interview Workshop\nWednesday\, March 26: Speed Networking Workshop (Elevator Pitch) \n5 P.M. – 6 P.M.\nCentreTech Campus\nStudent Center\, Rotunda S100
URL:https://ccaurora.edu/event/career-readiness-workshop-series/2025-03-25/
LOCATION:Centretech Campus\, Student Center Building\, Rotunda (S100)
END:VEVENT
BEGIN:VEVENT
DTSTART;TZID=America/Denver:20250325T130000
DTEND;TZID=America/Denver:20250401T160000
DTSTAMP:20260422T025729
CREATED:20250325T194815Z
LAST-MODIFIED:20250325T194815Z
UID:10002921-1742907600-1743523200@ccaurora.edu
SUMMARY:Innovation Lab Workshop Series Robotics
DESCRIPTION:Innovation Lab Workshop Series Robotics \nChose one 2-day sessions to attend: \nTwo Fridays:\nMarch 28 and April 4\n1 p.m – 4 p.m. \nOR \nTwo Saturdays:\nMarch 29 and April 5\n1 p.m – 4 p.m. \nJoin the Innovation Lab Team to learn about Robots\, Circuitry\, and Programming in Arduino. \nAll majors are welcomed!\nAttendance is free!\nSpots will be awarded on a first come first served basis. \nTake home a robot that you learned how to program. No previous Arduino experience necessary. \nRegister Today! \nLowry Campus\nWest Quad\, RM 212
URL:https://ccaurora.edu/event/innovation-lab-workshop-series-robotics/
END:VEVENT
BEGIN:VEVENT
DTSTART;TZID=America/Denver:20250321T160000
DTEND;TZID=America/Denver:20250321T190000
DTSTAMP:20260422T025729
CREATED:20250221T182748Z
LAST-MODIFIED:20250722T213859Z
UID:10002850-1742572800-1742583600@ccaurora.edu
SUMMARY:Student Development Workshop Series
DESCRIPTION:Hearts & Crafts\nFriday\, February 7 • 4- 6 P.M.\nCentreTech Campus\, Student Centre Building Rotunda\nBring your family for a heartwarming evening of fun\, creativity\, and love!\nThis family-friendly Valentine’s Day event is designed to create engaging\nand memorable moments together. \nThe Psychology of Money: Understanding Your Financial Mindset\nThursday\, February 20 • 1- 2 P.M.\nVirtual Workshop Zoom Link Below Scan QR Code\nDive into the fascinating intersection of psychology and personal finance in\nthis insightful workshop. This workshop will explore underlying emotions\,\nbeliefs and cognitive biases that shape our financial decisions. \nLinkedIn Learning & Interview Prep\nTuesday\, March 4 • 5- 6 P.M.\nCentreTech Campus\, Student Centre Building Rotunda \, S100\nMaster interview success with this LinkedIn Learning workshop. Gain key strategies\,\nboost confidence\, and leave a lasting impression. \nMonthly Study Skills Workshop with TRIO\nWednesday\, March 19 • 2- 5 P.M.\nCentreTech Campus\, Classroom Building\nNavigate FAFSA and scholarships with ease in this monthly workshop. Access expert tips\, essential\nresources\, and actionable guidance. \nGetting Crafty With Future Foxes\nFriday \, March 21 • 4- 7 P.M.\nCentreTech Campus\, Student Centre Building\, Rotunda S100\nEnjoy an evening with your little loved ones by making arts & crafts! Come paint a\ncanvas\, make friendship bracelet and have a foxtastic time! \nWellness Works Wonders With COSI\nThursday \, April 10 • 2- 3 P.M.\nCentreTech Campus\, Student Centre Building Rotunda \, S100\nIt is that time of the semester when you are preparing for finals week. Join us as we\ndiscuss wellness practices\, de-stress techniques and celebrating achievements.
URL:https://ccaurora.edu/event/student-development-workshop-series-3/2025-03-21/
LOCATION:CentreTech Campus\, 16000 E Centretech Pkwy\, Aurora\, CO\, 80011\, United States
END:VEVENT
BEGIN:VEVENT
DTSTART;TZID=America/Denver:20250320T140000
DTEND;TZID=America/Denver:20250320T150000
DTSTAMP:20260422T025729
CREATED:20250129T234804Z
LAST-MODIFIED:20250129T234804Z
UID:10002382-1742479200-1742482800@ccaurora.edu
SUMMARY:From Here to Career Virtual Series
DESCRIPTION:Join us every Thursday in February and March for our Career Virtual Series! Boost your skills\, expand your etwork\, and explore new opportunities – all from the comfort of your home. Don’t miss out! \nSchedule\nThursday\, February 6: Resume Building\nThursday\, February 13: Internship/Job Search\nThursday\, February 20: First Generation Success\nThursday\, February 27: Skills Employers Seek\nThursday\, March 6: Career Exploration\nThursday\, March 20: Acing the Interview\nThursday\, March 27: LinkedIn Profile/Personal Branding \n2 P.M. – 3 P.M.
URL:https://ccaurora.edu/event/from-here-to-career-virtual-series/2025-03-20/
LOCATION:Virtual
END:VEVENT
BEGIN:VEVENT
DTSTART;TZID=America/Denver:20250320T124500
DTEND;TZID=America/Denver:20250320T140000
DTSTAMP:20260422T025729
CREATED:20240626T155846Z
LAST-MODIFIED:20240626T155846Z
UID:10001112-1742474700-1742479200@ccaurora.edu
SUMMARY:Students of Christ 3:16 - Bible Study
DESCRIPTION:Wednesdays CentreTech Campus\nCLRM BLDG RM 102\n3 PM – 4:30 PM \nThursdays Lowry Campus\nWest Quad RM 218\n12:45 PM – 2 PM \nEmail Info: studentsofchrist.cca@ccaurora.edu
URL:https://ccaurora.edu/event/students-of-christ-316-bible-study-2/2025-03-20/
LOCATION:West Quad\, Lowry Campus
END:VEVENT
BEGIN:VEVENT
DTSTART;TZID=America/Denver:20250320T123000
DTEND;TZID=America/Denver:20250320T133000
DTSTAMP:20260422T025729
CREATED:20250318T155059Z
LAST-MODIFIED:20250318T155059Z
UID:10002908-1742473800-1742477400@ccaurora.edu
SUMMARY:SUCCESS  LOOKS LIKE ME
DESCRIPTION:SUCCESS \nLOOKS LIKE ME \nThursday\, March 20\, 12:30-1:30 P.M. \nJoin us for a panel discussion featuring former CCA \nStudents who have successfully transitioned into \ncareers or prestigious programs. Hear firsthand the \nstrategies they employed to achieve their goals \nCentreTech Campus \nStudent Center\, Rotunda \nFor more information contact \ncareercoaching.readiness@ccaurora.eduv
URL:https://ccaurora.edu/event/success-looks-like-me-2/
END:VEVENT
BEGIN:VEVENT
DTSTART;TZID=America/Denver:20250319T150000
DTEND;TZID=America/Denver:20250319T163000
DTSTAMP:20260422T025729
CREATED:20240626T154930Z
LAST-MODIFIED:20240626T155117Z
UID:10001054-1742396400-1742401800@ccaurora.edu
SUMMARY:Students of Christ 3:16 - Bible Study
DESCRIPTION:Wednesdays CentreTech Campus\nCLRM BLDG RM 102\n3 PM – 4:30 PM \nThursdays Lowry Campus\nWest Quad RM 218\n12:45 PM – 2 PM \nEmail Info: studentsofchrist.cca@ccaurora.edu
URL:https://ccaurora.edu/event/students-of-christ-316-bible-study/2025-03-19/
LOCATION:CentreTech Campus\, 16000 E Centretech Pkwy\, Aurora\, CO\, 80011\, United States
END:VEVENT
BEGIN:VEVENT
DTSTART;TZID=America/Denver:20250319T143000
DTEND;TZID=America/Denver:20250319T153000
DTSTAMP:20260422T025729
CREATED:20250305T185054Z
LAST-MODIFIED:20250305T185054Z
UID:10002866-1742394600-1742398200@ccaurora.edu
SUMMARY:Understanding the Knots
DESCRIPTION:We are surrounded by complex social\, political\, and environmental issues. \nHow can we untangle all? \nWriting offers one safe and positive outlet for coping with the stress and anxiety these issues may provoke. \nBring your preferred writing tools and join the English Faculty Carla Campbell and guest speakers Sharon Fleming\, M. Ed. in this contemplative writing and meditation workshop. \nWednesday\, March 19\n2:30 – 3:30 p.m.\nF110\, Black Box Theater\nFine Arts Building\,\nCentreTech Campus
URL:https://ccaurora.edu/event/understanding-the-knots/
END:VEVENT
BEGIN:VEVENT
DTSTART;TZID=America/Denver:20250319T140000
DTEND;TZID=America/Denver:20250319T170000
DTSTAMP:20260422T025729
CREATED:20250221T182748Z
LAST-MODIFIED:20250722T213859Z
UID:10002849-1742392800-1742403600@ccaurora.edu
SUMMARY:Student Development Workshop Series
DESCRIPTION:Hearts & Crafts\nFriday\, February 7 • 4- 6 P.M.\nCentreTech Campus\, Student Centre Building Rotunda\nBring your family for a heartwarming evening of fun\, creativity\, and love!\nThis family-friendly Valentine’s Day event is designed to create engaging\nand memorable moments together. \nThe Psychology of Money: Understanding Your Financial Mindset\nThursday\, February 20 • 1- 2 P.M.\nVirtual Workshop Zoom Link Below Scan QR Code\nDive into the fascinating intersection of psychology and personal finance in\nthis insightful workshop. This workshop will explore underlying emotions\,\nbeliefs and cognitive biases that shape our financial decisions. \nLinkedIn Learning & Interview Prep\nTuesday\, March 4 • 5- 6 P.M.\nCentreTech Campus\, Student Centre Building Rotunda \, S100\nMaster interview success with this LinkedIn Learning workshop. Gain key strategies\,\nboost confidence\, and leave a lasting impression. \nMonthly Study Skills Workshop with TRIO\nWednesday\, March 19 • 2- 5 P.M.\nCentreTech Campus\, Classroom Building\nNavigate FAFSA and scholarships with ease in this monthly workshop. Access expert tips\, essential\nresources\, and actionable guidance. \nGetting Crafty With Future Foxes\nFriday \, March 21 • 4- 7 P.M.\nCentreTech Campus\, Student Centre Building\, Rotunda S100\nEnjoy an evening with your little loved ones by making arts & crafts! Come paint a\ncanvas\, make friendship bracelet and have a foxtastic time! \nWellness Works Wonders With COSI\nThursday \, April 10 • 2- 3 P.M.\nCentreTech Campus\, Student Centre Building Rotunda \, S100\nIt is that time of the semester when you are preparing for finals week. Join us as we\ndiscuss wellness practices\, de-stress techniques and celebrating achievements.
URL:https://ccaurora.edu/event/student-development-workshop-series-3/2025-03-19/
LOCATION:CentreTech Campus\, 16000 E Centretech Pkwy\, Aurora\, CO\, 80011\, United States
END:VEVENT
BEGIN:VEVENT
DTSTART;TZID=America/Denver:20250319T110000
DTEND;TZID=America/Denver:20250319T140000
DTSTAMP:20260422T025729
CREATED:20250213T194243Z
LAST-MODIFIED:20250722T213649Z
UID:10002904-1742382000-1742392800@ccaurora.edu
SUMMARY:Foxy's Mini Mart
DESCRIPTION:Foxy’s Mini Mart \nA Free Food Market for CCA students and employees. \nLowry Studios \n11 A.M. – 4 P.M. \nSpring 2025\nWednesday\, February 19\nWednesday\, March 5\nWednesday\, March 19\nWednesday\, April 2\nMonday\, April 14\nWednesday\, April 30
URL:https://ccaurora.edu/event/foxys-mini-mart/2025-03-19/
END:VEVENT
BEGIN:VEVENT
DTSTART;VALUE=DATE:20250319
DTEND;VALUE=DATE:20250320
DTSTAMP:20260422T025729
CREATED:20250227T165423Z
LAST-MODIFIED:20250227T165423Z
UID:10002854-1742342400-1742428799@ccaurora.edu
SUMMARY:Women's History Month: Book Club
DESCRIPTION:Parable of the Sower \nJoin us in exploring the journey of 15-year-old Lauren Olamina in Early 2020s California\, amid climate change and economic crises\, she battles personal challenges while forcing a new faith and vision for humanity’s future. Don’t Miss Out! \nMarch 19th\, 2025\nCentreTech Campus\, Fine Arts Building\, Forum F100 \nfirst meeting|Books provided-First come First served \nFor questions\, Comments\, or Concerns\, please email: BSA@CCAURORA.EDU
URL:https://ccaurora.edu/event/womens-history-month-book-club/
END:VEVENT
BEGIN:VEVENT
DTSTART;TZID=America/Denver:20250318T110000
DTEND;TZID=America/Denver:20250318T130000
DTSTAMP:20260422T025729
CREATED:20250314T164339Z
LAST-MODIFIED:20250722T213744Z
UID:10002901-1742295600-1742302800@ccaurora.edu
SUMMARY:STEM Career Fair
DESCRIPTION:Discover career possibilities and network with top local employers to discuss careers\, internships\, fellowships\, and more! \nTuesday\, March 18\, 2025\n11 A.M. – 1 P.M.\nLowry Campus\, West Quad\nBergren Room 112 \nCompanies Register using QR code
URL:https://ccaurora.edu/event/stem-career-fair-3/
LOCATION:Lowry\, West Quad\, Bergen Room\, 722 Alton Way\, Denver\, CO\, 80230\, United States
END:VEVENT
BEGIN:VEVENT
DTSTART;TZID=America/Denver:20250317T090000
DTEND;TZID=America/Denver:20250317T130000
DTSTAMP:20260422T025729
CREATED:20250106T202140Z
LAST-MODIFIED:20250106T202140Z
UID:10002283-1742202000-1742216400@ccaurora.edu
SUMMARY:FAFSA & CASFA Rushes
DESCRIPTION:The CCA Financial Aid Office will be hosting special walk-in assistance with the FAFSA/CASFA Applications at the CentreTech Campus\, Admin Building. \nMonday\, March 3 | 10 A.M. – 1 P.M. | A103H\nFriday\, March 7 | 2 P.M. – 5 P.M. | A103H\nThursday\, March 13 | 2 P.M. – 6 P.M. | A103H\nMonday\, March 17 | 9 A.M. – 1 P.M. | A103H\nThursday\, March 27 | 2 P.M. – 5 P.M. | A103H \nPrefer to meet virtually? Call 303-352-8746\, text 303-552-5344 or email EOC@CCD.EDU\nIn-person appointment call 303-360-4709 or email financialaid.cca@ccaurora.edu
URL:https://ccaurora.edu/event/fafsa-casfa-rushes-3/2025-03-17/
LOCATION:CentreTech Campus\, 16000 E Centretech Pkwy\, Aurora\, CO\, 80011\, United States
END:VEVENT
BEGIN:VEVENT
DTSTART;TZID=America/Denver:20250315T100000
DTEND;TZID=America/Denver:20250315T130000
DTSTAMP:20260422T025729
CREATED:20250303T182333Z
LAST-MODIFIED:20250722T213327Z
UID:10002865-1742032800-1742043600@ccaurora.edu
SUMMARY:OPEN HOUSE
DESCRIPTION:Your Future. Our Promise. \nOPEN HOUSE. \nAre you ready to start your college career and be on your way to achieving your educational goals? Then come to the Community College of Aurora’s Open House to learn about CCA’S wide variety of academic programs and support services\, and do everything you need to do to become a CCA student. \nRegister HERE! 
URL:https://ccaurora.edu/event/open-house/
END:VEVENT
BEGIN:VEVENT
DTSTART;TZID=America/Denver:20250313T140000
DTEND;TZID=America/Denver:20250313T180000
DTSTAMP:20260422T025729
CREATED:20250106T202140Z
LAST-MODIFIED:20250106T202140Z
UID:10002282-1741874400-1741888800@ccaurora.edu
SUMMARY:FAFSA & CASFA Rushes
DESCRIPTION:The CCA Financial Aid Office will be hosting special walk-in assistance with the FAFSA/CASFA Applications at the CentreTech Campus\, Admin Building. \nMonday\, March 3 | 10 A.M. – 1 P.M. | A103H\nFriday\, March 7 | 2 P.M. – 5 P.M. | A103H\nThursday\, March 13 | 2 P.M. – 6 P.M. | A103H\nMonday\, March 17 | 9 A.M. – 1 P.M. | A103H\nThursday\, March 27 | 2 P.M. – 5 P.M. | A103H \nPrefer to meet virtually? Call 303-352-8746\, text 303-552-5344 or email EOC@CCD.EDU\nIn-person appointment call 303-360-4709 or email financialaid.cca@ccaurora.edu
URL:https://ccaurora.edu/event/fafsa-casfa-rushes-3/2025-03-13/
LOCATION:CentreTech Campus\, 16000 E Centretech Pkwy\, Aurora\, CO\, 80011\, United States
END:VEVENT
END:VCALENDAR