BEGIN:VCALENDAR
VERSION:2.0
PRODID:-//Community College of Aurora - ECPv6.15.20//NONSGML v1.0//EN
CALSCALE:GREGORIAN
METHOD:PUBLISH
X-WR-CALNAME:Community College of Aurora
X-ORIGINAL-URL:https://ccaurora.edu
X-WR-CALDESC:Events for Community College of Aurora
REFRESH-INTERVAL;VALUE=DURATION:PT1H
X-Robots-Tag:noindex
X-PUBLISHED-TTL:PT1H
BEGIN:VTIMEZONE
TZID:America/Denver
BEGIN:DAYLIGHT
TZOFFSETFROM:-0700
TZOFFSETTO:-0600
TZNAME:MDT
DTSTART:20250309T090000
END:DAYLIGHT
BEGIN:STANDARD
TZOFFSETFROM:-0600
TZOFFSETTO:-0700
TZNAME:MST
DTSTART:20251102T080000
END:STANDARD
BEGIN:DAYLIGHT
TZOFFSETFROM:-0700
TZOFFSETTO:-0600
TZNAME:MDT
DTSTART:20260308T090000
END:DAYLIGHT
BEGIN:STANDARD
TZOFFSETFROM:-0600
TZOFFSETTO:-0700
TZNAME:MST
DTSTART:20261101T080000
END:STANDARD
BEGIN:DAYLIGHT
TZOFFSETFROM:-0700
TZOFFSETTO:-0600
TZNAME:MDT
DTSTART:20270314T090000
END:DAYLIGHT
BEGIN:STANDARD
TZOFFSETFROM:-0600
TZOFFSETTO:-0700
TZNAME:MST
DTSTART:20271107T080000
END:STANDARD
END:VTIMEZONE
BEGIN:VEVENT
DTSTART;VALUE=DATE:20260427
DTEND;VALUE=DATE:20260428
DTSTAMP:20260424T080234
CREATED:20260407T190529Z
LAST-MODIFIED:20260407T190529Z
UID:10003707-1777248000-1777334399@ccaurora.edu
SUMMARY:Spirit Week: Pajama Day
DESCRIPTION:
URL:https://ccaurora.edu/event/spirit-week-pajama-day/
END:VEVENT
BEGIN:VEVENT
DTSTART;TZID=America/Denver:20260427T110000
DTEND;TZID=America/Denver:20260427T130000
DTSTAMP:20260424T080234
CREATED:20260417T222312Z
LAST-MODIFIED:20260417T222312Z
UID:10003739-1777287600-1777294800@ccaurora.edu
SUMMARY:STEM Collab Event
DESCRIPTION:
URL:https://ccaurora.edu/event/stem-collab-event/
LOCATION:Centretech Campus\, Student Center Building\, Rotunda (S100)
END:VEVENT
BEGIN:VEVENT
DTSTART;VALUE=DATE:20260428
DTEND;VALUE=DATE:20260429
DTSTAMP:20260424T080234
CREATED:20250819T143731Z
LAST-MODIFIED:20251124T225529Z
UID:10003073-1777334400-1777420799@ccaurora.edu
SUMMARY:Red Shirt Tuesday
DESCRIPTION:Wear your CCA red shirt every Tuesday to be entered into a raffle for a free meal at the cafe!! \n  \nStop by the division of Student Success or fill out the form HERE \nCTC: Student Center S101 \nLowry Studios: Room 112 \nCentennial: Foxy’s Resource Center
URL:https://ccaurora.edu/event/red-shirt-tuesday/2026-04-28/
END:VEVENT
BEGIN:VEVENT
DTSTART;VALUE=DATE:20260428
DTEND;VALUE=DATE:20260429
DTSTAMP:20260424T080234
CREATED:20260407T190612Z
LAST-MODIFIED:20260407T190612Z
UID:10003709-1777334400-1777420799@ccaurora.edu
SUMMARY:Spirit Week: CCA Spirit
DESCRIPTION:
URL:https://ccaurora.edu/event/spirit-week-cca-spirit/
END:VEVENT
BEGIN:VEVENT
DTSTART;TZID=America/Denver:20260428T140000
DTEND;TZID=America/Denver:20260428T163000
DTSTAMP:20260424T080234
CREATED:20260413T221944Z
LAST-MODIFIED:20260413T221944Z
UID:10003721-1777384800-1777393800@ccaurora.edu
SUMMARY:College Algebra Final Exam Review Workshop
DESCRIPTION:Bring your final exam review packet! Questions? Email Kate.Yonce@ccaurora.edu
URL:https://ccaurora.edu/event/college-algebra-final-exam-review-workshop-5/2026-04-28/
LOCATION:CentreTech Campus CAST Building 130
END:VEVENT
BEGIN:VEVENT
DTSTART;TZID=America/Denver:20260428T142000
DTEND;TZID=America/Denver:20260428T155000
DTSTAMP:20260424T080234
CREATED:20260414T175515Z
LAST-MODIFIED:20260414T175515Z
UID:10003735-1777386000-1777391400@ccaurora.edu
SUMMARY:Share Your Counternarrative
DESCRIPTION:A counternarrative is a story\, or argument that challenges\, disrupts\, or offers an alternative to a commonly accepted dominant viewpoint. Come share your story. Register to participate.
URL:https://ccaurora.edu/event/share-your-counternarrative/
LOCATION:CentreTech Campus Larry D. Carter Theater\, Fine Arts Building 110
END:VEVENT
BEGIN:VEVENT
DTSTART;VALUE=DATE:20260429
DTEND;VALUE=DATE:20260430
DTSTAMP:20260424T080234
CREATED:20260407T190654Z
LAST-MODIFIED:20260407T190654Z
UID:10003711-1777420800-1777507199@ccaurora.edu
SUMMARY:Spirit Week: Future Me Day
DESCRIPTION:
URL:https://ccaurora.edu/event/spirit-week-future-me-day/
END:VEVENT
BEGIN:VEVENT
DTSTART;TZID=America/Denver:20260429T110000
DTEND;TZID=America/Denver:20260429T133000
DTSTAMP:20260424T080234
CREATED:20260413T222425Z
LAST-MODIFIED:20260413T222425Z
UID:10003725-1777460400-1777469400@ccaurora.edu
SUMMARY:College Algebra Final Exam Review Workshop
DESCRIPTION:Bring your final exam review packet! Questions? Email Kate.Yonce@ccaurora.edu
URL:https://ccaurora.edu/event/college-algebra-final-exam-review-workshop-6/2026-04-29/
LOCATION:CentreTech Campus CAST Building 101
END:VEVENT
BEGIN:VEVENT
DTSTART;TZID=America/Denver:20260429T120000
DTEND;TZID=America/Denver:20260429T130000
DTSTAMP:20260424T080234
CREATED:20260417T222503Z
LAST-MODIFIED:20260417T222503Z
UID:10003743-1777464000-1777467600@ccaurora.edu
SUMMARY:Wellness Wednesday
DESCRIPTION:
URL:https://ccaurora.edu/event/wellness-wednesday/
LOCATION:CentreTech Campus Student Center Wellness Den
END:VEVENT
BEGIN:VEVENT
DTSTART;TZID=America/Denver:20260429T180000
DTEND;TZID=America/Denver:20260429T200000
DTSTAMP:20260424T080234
CREATED:20251118T185243Z
LAST-MODIFIED:20251118T185243Z
UID:10003405-1777485600-1777492800@ccaurora.edu
SUMMARY:Camino al Colegio
DESCRIPTION:Celebrate the final step in your college journey at this bilingual open house event! Explore CCA’s many campus resources through an interactive Lotería card activity\, visit resource tables\, and enjoy music\, food\, and raffle prizes. This festive event is designed to help students and families feel excited\, connected\, and ready for college life at CCA. \nRSVP here. 
URL:https://ccaurora.edu/event/camino-al-colegio/
LOCATION:CentreTech Campus\, 16000 E Centretech Pkwy\, Aurora\, CO\, 80011\, United States
END:VEVENT
BEGIN:VEVENT
DTSTART;VALUE=DATE:20260430
DTEND;VALUE=DATE:20260501
DTSTAMP:20260424T080234
CREATED:20260212T214901Z
LAST-MODIFIED:20260212T214901Z
UID:10003556-1777507200-1777593599@ccaurora.edu
SUMMARY:Aurora Gives Scholarship Deadline
DESCRIPTION:SCHOLARSHIP OVERVIEW \n\nScholarship covers tuition\, books\, and fees with the goal of completing associate degree in two years\nStudent receives a personal laptop\nStudent receives personalized advising including access to TRIO\n\n  \nEXPECTATIONS \n\nWrite scholarship thank you letter each semester\nDeclare a major and create a graduation plan\nMaintain a minimum GPA of 2.5 each semester\nEngage with academic advisor each semester\nComplete associate degree at CCA in two years or less\nVolunteer at least 10 hours per year\n\n  \nREADY TO APPLY? \n\nApplicants must be involved with an Aurora Gives community partner organization: ACE\, Adams 14 Education Foundation\, Ambassador Foundation\, APS College & Career Centers\, Bates Philanthropic Initiative\, College Track\, Colorado Golf Association\, Convivir Colorado\, DAVA\, Denver Kids Inc.\, ELK\, Hope Ignites\, KICS Clinic\, KIPP Colorado\, Latinas First\, Teens Inc.\, TRIO Upward Bound\, or YAASPA.\nApply to CCA\nComplete scholarship application here\nFinalist Interviews will be held mid-May\n\n  \nQuestions? Contact Britt Davis\, Scholarship and Donor Impact Coordinator\,\nat brittany.davis@ccaurora.edu or 303.360.4926
URL:https://ccaurora.edu/event/aurora-gives-scholarship-deadline/
END:VEVENT
BEGIN:VEVENT
DTSTART;VALUE=DATE:20260430
DTEND;VALUE=DATE:20260501
DTSTAMP:20260424T080234
CREATED:20260407T190741Z
LAST-MODIFIED:20260407T190741Z
UID:10003713-1777507200-1777593599@ccaurora.edu
SUMMARY:Spirit Week: Jersey Day
DESCRIPTION:
URL:https://ccaurora.edu/event/spirit-week-jersey-day/
END:VEVENT
BEGIN:VEVENT
DTSTART;TZID=America/Denver:20260430T090000
DTEND;TZID=America/Denver:20260430T113000
DTSTAMP:20260424T080234
CREATED:20260413T222425Z
LAST-MODIFIED:20260413T222425Z
UID:10003726-1777539600-1777548600@ccaurora.edu
SUMMARY:College Algebra Final Exam Review Workshop
DESCRIPTION:Bring your final exam review packet! Questions? Email Kate.Yonce@ccaurora.edu
URL:https://ccaurora.edu/event/college-algebra-final-exam-review-workshop-6/2026-04-30/
LOCATION:CentreTech Campus CAST Building 101
END:VEVENT
BEGIN:VEVENT
DTSTART;TZID=America/Denver:20260430T103000
DTEND;TZID=America/Denver:20260430T133000
DTSTAMP:20260424T080234
CREATED:20250819T143335Z
LAST-MODIFIED:20251028T225023Z
UID:10003381-1777545000-1777555800@ccaurora.edu
SUMMARY:Foxy's Mobile Market
DESCRIPTION:A free food market for CCA students and employees
URL:https://ccaurora.edu/event/foxys-mobile-market-14/2026-04-30/
LOCATION:CentreTech Campus Student Center Parking Lot
END:VEVENT
BEGIN:VEVENT
DTSTART;TZID=America/Denver:20260430T123000
DTEND;TZID=America/Denver:20260430T133000
DTSTAMP:20260424T080234
CREATED:20260407T185930Z
LAST-MODIFIED:20260407T185930Z
UID:10003701-1777552200-1777555800@ccaurora.edu
SUMMARY:CCA Bingo
DESCRIPTION:Meet student-led organizations\, make new friends\, join a club\, and have a fun\, exciting time on campus—you won’t want to miss it. Play for a chance to win CCA swag.
URL:https://ccaurora.edu/event/cca-bingo-3/
LOCATION:Lowry Studios Lobby
END:VEVENT
BEGIN:VEVENT
DTSTART;VALUE=DATE:20260501
DTEND;VALUE=DATE:20260502
DTSTAMP:20260424T080234
CREATED:20260407T190835Z
LAST-MODIFIED:20260407T190835Z
UID:10003715-1777593600-1777679999@ccaurora.edu
SUMMARY:Spirit Week: Anything But a Backpack Day
DESCRIPTION:
URL:https://ccaurora.edu/event/spirit-week-anything-but-a-backpack-day/
END:VEVENT
BEGIN:VEVENT
DTSTART;TZID=America/Denver:20260501T100000
DTEND;TZID=America/Denver:20260501T123000
DTSTAMP:20260424T080234
CREATED:20260413T221944Z
LAST-MODIFIED:20260413T221944Z
UID:10003722-1777629600-1777638600@ccaurora.edu
SUMMARY:College Algebra Final Exam Review Workshop
DESCRIPTION:Bring your final exam review packet! Questions? Email Kate.Yonce@ccaurora.edu
URL:https://ccaurora.edu/event/college-algebra-final-exam-review-workshop-5/2026-05-01/
LOCATION:CentreTech Campus CAST Building 130
END:VEVENT
BEGIN:VEVENT
DTSTART;TZID=America/Denver:20260501T123000
DTEND;TZID=America/Denver:20260501T133000
DTSTAMP:20260424T080234
CREATED:20260407T185536Z
LAST-MODIFIED:20260407T185536Z
UID:10003695-1777638600-1777642200@ccaurora.edu
SUMMARY:Online CCA Bingo
DESCRIPTION:Win awesome prizes and join us for some fun! Hosted by the Student Government Association. \nSign up to attend via Zoom.
URL:https://ccaurora.edu/event/online-cca-bingo-2/
LOCATION:Virtual
END:VEVENT
BEGIN:VEVENT
DTSTART;TZID=America/Denver:20260504T140000
DTEND;TZID=America/Denver:20260504T160000
DTSTAMP:20260424T080234
CREATED:20260413T222425Z
LAST-MODIFIED:20260413T222425Z
UID:10003727-1777903200-1777910400@ccaurora.edu
SUMMARY:College Algebra Final Exam Review Workshop
DESCRIPTION:Bring your final exam review packet! Questions? Email Kate.Yonce@ccaurora.edu
URL:https://ccaurora.edu/event/college-algebra-final-exam-review-workshop-6/2026-05-04/
LOCATION:CentreTech Campus CAST Building 101
END:VEVENT
BEGIN:VEVENT
DTSTART;VALUE=DATE:20260505
DTEND;VALUE=DATE:20260506
DTSTAMP:20260424T080234
CREATED:20250819T143731Z
LAST-MODIFIED:20251124T225529Z
UID:10003074-1777939200-1778025599@ccaurora.edu
SUMMARY:Red Shirt Tuesday
DESCRIPTION:Wear your CCA red shirt every Tuesday to be entered into a raffle for a free meal at the cafe!! \n  \nStop by the division of Student Success or fill out the form HERE \nCTC: Student Center S101 \nLowry Studios: Room 112 \nCentennial: Foxy’s Resource Center
URL:https://ccaurora.edu/event/red-shirt-tuesday/2026-05-05/
END:VEVENT
BEGIN:VEVENT
DTSTART;TZID=America/Denver:20260505T110000
DTEND;TZID=America/Denver:20260505T130000
DTSTAMP:20260424T080234
CREATED:20260413T222425Z
LAST-MODIFIED:20260413T222425Z
UID:10003728-1777978800-1777986000@ccaurora.edu
SUMMARY:College Algebra Final Exam Review Workshop
DESCRIPTION:Bring your final exam review packet! Questions? Email Kate.Yonce@ccaurora.edu
URL:https://ccaurora.edu/event/college-algebra-final-exam-review-workshop-6/2026-05-05/
LOCATION:CentreTech Campus CAST Building 101
END:VEVENT
BEGIN:VEVENT
DTSTART;TZID=America/Denver:20260506T090000
DTEND;TZID=America/Denver:20260506T233000
DTSTAMP:20260424T080234
CREATED:20260413T222425Z
LAST-MODIFIED:20260413T222425Z
UID:10003729-1778058000-1778110200@ccaurora.edu
SUMMARY:College Algebra Final Exam Review Workshop
DESCRIPTION:Bring your final exam review packet! Questions? Email Kate.Yonce@ccaurora.edu
URL:https://ccaurora.edu/event/college-algebra-final-exam-review-workshop-6/2026-05-06/
LOCATION:CentreTech Campus CAST Building 101
END:VEVENT
BEGIN:VEVENT
DTSTART;TZID=America/Denver:20260507T163000
DTEND;TZID=America/Denver:20260507T183000
DTSTAMP:20260424T080234
CREATED:20260326T222241Z
LAST-MODIFIED:20260326T222241Z
UID:10003691-1778171400-1778178600@ccaurora.edu
SUMMARY:Spring 2026 Interdisciplinary Student Art Show Reception
DESCRIPTION:Submit art to the show. For more information\, email julie.rada@ccaurora.edu.
URL:https://ccaurora.edu/event/spring-2026-interdisciplinary-student-art-show-reception/
LOCATION:CentreTech Campus Fine Arts Building
END:VEVENT
BEGIN:VEVENT
DTSTART;TZID=America/Denver:20260509T090000
DTEND;TZID=America/Denver:20260509T140000
DTSTAMP:20260424T080234
CREATED:20230627T201842Z
LAST-MODIFIED:20251113T182603Z
UID:10000311-1778317200-1778335200@ccaurora.edu
SUMMARY:Graduation
DESCRIPTION:
URL:https://ccaurora.edu/event/graduation-3/
LOCATION:Aurora Municipal Center\, 15151 E. Alameda Parkway\, Aurora\, CO\, 80012\, United States
CATEGORIES:Important Academic Dates
END:VEVENT
BEGIN:VEVENT
DTSTART;TZID=America/Denver:20260511T080000
DTEND;TZID=America/Denver:20260511T170000
DTSTAMP:20260424T080234
CREATED:20230627T201623Z
LAST-MODIFIED:20230627T201623Z
UID:10000309-1778486400-1778518800@ccaurora.edu
SUMMARY:Spring 2026 Semester Ends
DESCRIPTION:Spring 2026 Classes End
URL:https://ccaurora.edu/event/spring-2026-semester-ends/
CATEGORIES:Important Academic Dates
END:VEVENT
BEGIN:VEVENT
DTSTART;VALUE=DATE:20260512
DTEND;VALUE=DATE:20260513
DTSTAMP:20260424T080234
CREATED:20250819T143731Z
LAST-MODIFIED:20251124T225529Z
UID:10003075-1778544000-1778630399@ccaurora.edu
SUMMARY:Red Shirt Tuesday
DESCRIPTION:Wear your CCA red shirt every Tuesday to be entered into a raffle for a free meal at the cafe!! \n  \nStop by the division of Student Success or fill out the form HERE \nCTC: Student Center S101 \nLowry Studios: Room 112 \nCentennial: Foxy’s Resource Center
URL:https://ccaurora.edu/event/red-shirt-tuesday/2026-05-12/
END:VEVENT
BEGIN:VEVENT
DTSTART;TZID=America/Denver:20260512T190000
DTEND;TZID=America/Denver:20260512T210000
DTSTAMP:20260424T080234
CREATED:20260410T200542Z
LAST-MODIFIED:20260410T200542Z
UID:10003719-1778612400-1778619600@ccaurora.edu
SUMMARY:Cinematic Arts Spring 2026 Student Show
DESCRIPTION:Join us for a red-carpet evening featuring select films from our Spring Semester Cinematic Arts students\, showcasing their creativity\, collaboration\, and storytelling on the big screen. The program includes a two-hour screening\, followed by an awards ceremony.  This event is free and open to the public! \n  \nSponsored by Your Front Range Toyota Stores\, including AutoNation Toyota Arapahoe\, Groove Toyota\, Stevinson Toyota East\, Stevinson Toyota West\, and Corwin Toyota Boulder.
URL:https://ccaurora.edu/event/cinematic-arts-spring-2026-student-show/
LOCATION:Harkins Theater\, 8300 Northfield Blvd\, Denver\, CO\, United States
END:VEVENT
BEGIN:VEVENT
DTSTART;VALUE=DATE:20260514
DTEND;VALUE=DATE:20260515
DTSTAMP:20260424T080234
CREATED:20230725T201532Z
LAST-MODIFIED:20230725T201532Z
UID:10000358-1778716800-1778803199@ccaurora.edu
SUMMARY:Spring 2026 Grades Due
DESCRIPTION:Grades are due for the 2026 Spring Semester
URL:https://ccaurora.edu/event/spring-2026-grades-due/
CATEGORIES:Important Academic Dates
END:VEVENT
BEGIN:VEVENT
DTSTART;VALUE=DATE:20260519
DTEND;VALUE=DATE:20260520
DTSTAMP:20260424T080234
CREATED:20250819T143731Z
LAST-MODIFIED:20251124T225529Z
UID:10003076-1779148800-1779235199@ccaurora.edu
SUMMARY:Red Shirt Tuesday
DESCRIPTION:Wear your CCA red shirt every Tuesday to be entered into a raffle for a free meal at the cafe!! \n  \nStop by the division of Student Success or fill out the form HERE \nCTC: Student Center S101 \nLowry Studios: Room 112 \nCentennial: Foxy’s Resource Center
URL:https://ccaurora.edu/event/red-shirt-tuesday/2026-05-19/
END:VEVENT
BEGIN:VEVENT
DTSTART;TZID=America/Denver:20260520T140000
DTEND;TZID=America/Denver:20260520T170000
DTSTAMP:20260424T080234
CREATED:20260423T210214Z
LAST-MODIFIED:20260423T210214Z
UID:10003755-1779285600-1779296400@ccaurora.edu
SUMMARY:Financial Aid Walk-In Assistance
DESCRIPTION:Come to the CCA Financial Aid Office for special walk-in assistance with completing the FAFSA/CASFA Applications. \nTo make an in-person appointment\, call 303-0360-4709 or email Financialaid.CCA@CCAurora.edu. \nPrefer to meet virtually? Call 303-352-8746\, Text 303-552-5344 Or email EOC@CCD.EDU.
URL:https://ccaurora.edu/event/financial-aid-walk-in-assistance-3/2026-05-20/
LOCATION:CentreTech Campus Administration Building 103H
END:VEVENT
END:VCALENDAR