BEGIN:VCALENDAR
VERSION:2.0
PRODID:-//Community College of Aurora - ECPv6.15.20//NONSGML v1.0//EN
CALSCALE:GREGORIAN
METHOD:PUBLISH
X-WR-CALNAME:Community College of Aurora
X-ORIGINAL-URL:https://ccaurora.edu
X-WR-CALDESC:Events for Community College of Aurora
REFRESH-INTERVAL;VALUE=DURATION:PT1H
X-Robots-Tag:noindex
X-PUBLISHED-TTL:PT1H
BEGIN:VTIMEZONE
TZID:America/Denver
BEGIN:DAYLIGHT
TZOFFSETFROM:-0700
TZOFFSETTO:-0600
TZNAME:MDT
DTSTART:20250309T090000
END:DAYLIGHT
BEGIN:STANDARD
TZOFFSETFROM:-0600
TZOFFSETTO:-0700
TZNAME:MST
DTSTART:20251102T080000
END:STANDARD
BEGIN:DAYLIGHT
TZOFFSETFROM:-0700
TZOFFSETTO:-0600
TZNAME:MDT
DTSTART:20260308T090000
END:DAYLIGHT
BEGIN:STANDARD
TZOFFSETFROM:-0600
TZOFFSETTO:-0700
TZNAME:MST
DTSTART:20261101T080000
END:STANDARD
BEGIN:DAYLIGHT
TZOFFSETFROM:-0700
TZOFFSETTO:-0600
TZNAME:MDT
DTSTART:20270314T090000
END:DAYLIGHT
BEGIN:STANDARD
TZOFFSETFROM:-0600
TZOFFSETTO:-0700
TZNAME:MST
DTSTART:20271107T080000
END:STANDARD
END:VTIMEZONE
BEGIN:VEVENT
DTSTART;TZID=America/Denver:20260425T160000
DTEND;TZID=America/Denver:20260425T190000
DTSTAMP:20260424T094354
CREATED:20260223T223618Z
LAST-MODIFIED:20260223T223618Z
UID:10003608-1777132800-1777143600@ccaurora.edu
SUMMARY:Grad Bash
DESCRIPTION:Join us in celebrating your upcoming graduation by decorating your cap and meeting with representatives from transfer schools. Grad Bash is a family-friendly event featuring free food\, sweet treats\, a DJ\, photo booth\, bounce house and fun activities. All graduates from Summer 2025\, Fall 2025\, Spring 2026\, and Summer 2026\, along with their families and supporters\, are welcome. \nRSVP for Grad Bash.
URL:https://ccaurora.edu/event/grad-bash/
LOCATION:CentreTech Campus CAST Building
END:VEVENT
BEGIN:VEVENT
DTSTART;TZID=America/Denver:20260423T160000
DTEND;TZID=America/Denver:20260423T190000
DTSTAMP:20260424T094354
CREATED:20251126T173142Z
LAST-MODIFIED:20251126T173142Z
UID:10003430-1776960000-1776970800@ccaurora.edu
SUMMARY:CCA Open House
DESCRIPTION:Are you ready to start your college career and take the first step toward achieving your educational goals? Join us at the Community College of Aurora’s Open House to explore CCA’s wide variety of academic programs and student support services—and take care of everything you need to become a CCA student. Bring the whole family! There will be games\, prizes\, and refreshments for everyone to enjoy. \nRegister today!
URL:https://ccaurora.edu/event/cca-open-house/
END:VEVENT
BEGIN:VEVENT
DTSTART;TZID=America/Denver:20260423T100000
DTEND;TZID=America/Denver:20260423T120000
DTSTAMP:20260424T094354
CREATED:20260409T211233Z
LAST-MODIFIED:20260409T211233Z
UID:10003717-1776938400-1776945600@ccaurora.edu
SUMMARY:3D Printing Palooza
DESCRIPTION:Drop in and lear how to use a 3D printer in five minutes. Choose a design\, start a print\, and pick it up later. Free\, simple\, fast\, and hands-on. No prior experience needed. \nQuestions? Email catherine.cooper@ccaurora.edu.
URL:https://ccaurora.edu/event/3d-printing-palooza/
LOCATION:CentreTech Campus CAST Building Innovation Lab 100
END:VEVENT
BEGIN:VEVENT
DTSTART;TZID=America/Denver:20260423T093500
DTEND;TZID=America/Denver:20260423T140000
DTSTAMP:20260424T094354
CREATED:20260417T164946Z
LAST-MODIFIED:20260417T165029Z
UID:10003737-1776936900-1776952800@ccaurora.edu
SUMMARY:Confluence Student Conference
DESCRIPTION:This is the 11th annual showcase of student achievement. \nEvent Schedule: \n  \nCSI: Aurora – Uncover the Secrets Hidden in Bones! (10am-noon\, CAST Building)\nStep into the world of forensic investigation with students from Forensic Anthropology (ANT 2315) as they tackle simulated criminal cases. Join us to discover how the science of bones brings mysteries to light and see firsthand how future forensic scientists are trained to solve real-\nworld puzzles! \n  \nCOSGC NASA Space Grant robotics team (10am-noon\, CAST Building)\nDiscover the future of exploration with CCA’s Foxy Robotics team as they unveil their innovative rover and cutting-edge project. Witness firsthand the creativity\, engineering\, and teamwork that are propelling the next generation of space pioneers. Don’t miss this unique opportunity to see\ntomorrow’s technology. \n  \nEngineering Projects Showcase: Designing the Products and Experiments of the Future\n(10am-noon\, CAST Building)\nExperience innovation in action as CCA’s Engineering students present a diverse array of groundbreaking projects! Join us as we celebrate creativity\, problem-solving\, and explore hands-\non solutions designed to shape a better tomorrow. \n  \nAn Assortment of Excellent Papers & Presentations\nExplore a world of ideas at CCA’s showcase\, where students present a vibrant mix of papers and presentations across diverse topics. Be inspired by the passion and curiosity that drive our\nacademic community – there’s something for everyone to enjoy.\nSession 1 – 9:35am -10:50am (Classroom Building)\nSession 2 – 11:10am -12:25pm (Classroom Building)
URL:https://ccaurora.edu/event/confluence-student-conference/
LOCATION:CentreTech Campus\, 16000 E Centretech Pkwy\, Aurora\, CO\, 80011\, United States
END:VEVENT
BEGIN:VEVENT
DTSTART;TZID=America/Denver:20260422T170000
DTEND;TZID=America/Denver:20260422T180000
DTSTAMP:20260424T094354
CREATED:20260310T221454Z
LAST-MODIFIED:20260310T221454Z
UID:10003638-1776877200-1776880800@ccaurora.edu
SUMMARY:Faculty Art Show Reception
DESCRIPTION:For more information\, contact Julie Rada: julie.rada@ccaurora.edu
URL:https://ccaurora.edu/event/faculty-art-show-reception/
LOCATION:CentreTech Campus Fine Arts Building
END:VEVENT
BEGIN:VEVENT
DTSTART;TZID=America/Denver:20260422T120000
DTEND;TZID=America/Denver:20260422T131500
DTSTAMP:20260424T094354
CREATED:20260319T173614Z
LAST-MODIFIED:20260319T173632Z
UID:10003663-1776859200-1776863700@ccaurora.edu
SUMMARY:Restorative Practices for Transformative Leadership Workshop
DESCRIPTION:This interactive workshop explores how restorative practices can transform leadership and strengthen communities \n\nLearn practical approaches to building trust\, repairing harm\, and fostering accountability — essential skills for civic engagement and positive change\nGain tools to contribute meaningfully to the public good in political\, social\, and cultural spaces\nDiscover how to shift culture from punitive to transformative—one conversation at a time\n\nOpen to student leaders\, faculty\, staff\, and anyone passionate about community well-being. Light refreshments will be provided.
URL:https://ccaurora.edu/event/restorative-practicesfor-transformative-leadership-workshop/
LOCATION:Centretech Campus\, Student Center Building\, Rotunda (S100)
END:VEVENT
BEGIN:VEVENT
DTSTART;TZID=America/Denver:20260422T100000
DTEND;TZID=America/Denver:20260422T130000
DTSTAMP:20260424T094354
CREATED:20260316T204336Z
LAST-MODIFIED:20260316T204541Z
UID:10003657-1776852000-1776862800@ccaurora.edu
SUMMARY:Financial Aid Walk-In Assistance
DESCRIPTION:Come to the CCA Financial Aid Office for special walk-in assistance with completing the FAFSA/CASFA Applications. \nTo make an in-person appointment\, call 303-0360-4709 or email Financialaid.CCA@CCAurora.edu. \nPrefer to meet virtually? Call 303-352-8746\, Text 303-552-5344 Or email EOC@CCD.EDU.
URL:https://ccaurora.edu/event/financial-aid-walk-in-assistance-2/2026-04-22/
LOCATION:CentreTech Campus Administration Building 103H
END:VEVENT
BEGIN:VEVENT
DTSTART;TZID=America/Denver:20260421T120000
DTEND;TZID=America/Denver:20260421T130000
DTSTAMP:20260424T094354
CREATED:20260407T190424Z
LAST-MODIFIED:20260407T190424Z
UID:10003705-1776772800-1776776400@ccaurora.edu
SUMMARY:Caffeine with Dra. Reyna Anaya and Julie LaRock
DESCRIPTION:Connect with your Student Success team! Grab a coffee and play Lotería or Minute to Win It. The first 5 students to arrive will receive a $10 CCA Café meal voucher.
URL:https://ccaurora.edu/event/caffeine-with-dra-reyna-anaya-and-julie-larock/
LOCATION:Centennial Campus Common Space
END:VEVENT
BEGIN:VEVENT
DTSTART;VALUE=DATE:20260421
DTEND;VALUE=DATE:20260422
DTSTAMP:20260424T094354
CREATED:20250819T143731Z
LAST-MODIFIED:20251124T225529Z
UID:10003072-1776729600-1776815999@ccaurora.edu
SUMMARY:Red Shirt Tuesday
DESCRIPTION:Wear your CCA red shirt every Tuesday to be entered into a raffle for a free meal at the cafe!! \n  \nStop by the division of Student Success or fill out the form HERE \nCTC: Student Center S101 \nLowry Studios: Room 112 \nCentennial: Foxy’s Resource Center
URL:https://ccaurora.edu/event/red-shirt-tuesday/2026-04-21/
END:VEVENT
BEGIN:VEVENT
DTSTART;TZID=America/Denver:20260420T170000
DTEND;TZID=America/Denver:20260420T180000
DTSTAMP:20260424T094354
CREATED:20260323T224450Z
LAST-MODIFIED:20260323T224450Z
UID:10003677-1776704400-1776708000@ccaurora.edu
SUMMARY:Virtual Interview Prep Workshop
DESCRIPTION:Join us for a virtual overview of the in-person interview process\, where we’ll walk through the format\, expectations\, sample questions\, and strategies to help you feel prepared and confident. For more information\, email careercoachingreadiness@ccaurora.edu. \nJoin via Zoom.
URL:https://ccaurora.edu/event/virtual-interview-prep-workshop/
LOCATION:Virtual
END:VEVENT
BEGIN:VEVENT
DTSTART;TZID=America/Denver:20260420T110000
DTEND;TZID=America/Denver:20260420T120000
DTSTAMP:20260424T094354
CREATED:20260407T185815Z
LAST-MODIFIED:20260407T185815Z
UID:10003699-1776682800-1776686400@ccaurora.edu
SUMMARY:CCA Bingo
DESCRIPTION:Meet student-led organizations\, make new friends\, join a club\, and have a fun\, exciting time on campus—you won’t want to miss it. Play for a chance to win CCA swag.
URL:https://ccaurora.edu/event/cca-bingo-2/
LOCATION:Centretech Campus\, Student Center Building\, Rotunda (S100)
END:VEVENT
BEGIN:VEVENT
DTSTART;TZID=America/Denver:20260417T120000
DTEND;TZID=America/Denver:20260417T130000
DTSTAMP:20260424T094354
CREATED:20260417T222404Z
LAST-MODIFIED:20260417T222404Z
UID:10003741-1776427200-1776430800@ccaurora.edu
SUMMARY:Lunch Bar
DESCRIPTION:
URL:https://ccaurora.edu/event/lunch-bar/
LOCATION:CentreTech Campus Student Center Wellness Den
END:VEVENT
BEGIN:VEVENT
DTSTART;TZID=America/Denver:20260417T090000
DTEND;TZID=America/Denver:20260417T130000
DTSTAMP:20260424T094354
CREATED:20260316T204336Z
LAST-MODIFIED:20260316T204541Z
UID:10003656-1776416400-1776430800@ccaurora.edu
SUMMARY:Financial Aid Walk-In Assistance
DESCRIPTION:Come to the CCA Financial Aid Office for special walk-in assistance with completing the FAFSA/CASFA Applications. \nTo make an in-person appointment\, call 303-0360-4709 or email Financialaid.CCA@CCAurora.edu. \nPrefer to meet virtually? Call 303-352-8746\, Text 303-552-5344 Or email EOC@CCD.EDU.
URL:https://ccaurora.edu/event/financial-aid-walk-in-assistance-2/2026-04-17/
LOCATION:CentreTech Campus Administration Building 103H
END:VEVENT
BEGIN:VEVENT
DTSTART;TZID=America/Denver:20260416T110000
DTEND;TZID=America/Denver:20260416T130000
DTSTAMP:20260424T094354
CREATED:20260326T220955Z
LAST-MODIFIED:20260326T221313Z
UID:10003689-1776337200-1776344400@ccaurora.edu
SUMMARY:Play the 'Game of Life'
DESCRIPTION:Players choose between college or career paths\, aiming to earn money\, buy houses\, and collect Life Tiles. The game encourages managing finances and navigating life’s twists and turns. For more information\, contact financialaid@ccaurora.edu.
URL:https://ccaurora.edu/event/play-the-game-of-life/
LOCATION:Centretech Campus\, Student Center Building\, Rotunda (S100)
END:VEVENT
BEGIN:VEVENT
DTSTART;TZID=America/Denver:20260415T113000
DTEND;TZID=America/Denver:20260415T123000
DTSTAMP:20260424T094354
CREATED:20260407T185648Z
LAST-MODIFIED:20260407T185648Z
UID:10003697-1776252600-1776256200@ccaurora.edu
SUMMARY:CCA Bingo
DESCRIPTION:Meet student-led organizations\, make new friends\, join a club\, and have a fun\, exciting time on campus—you won’t want to miss it. Play for a chance to win CCA swag.
URL:https://ccaurora.edu/event/cca-bingo/
LOCATION:Centennial Campus Common Space
END:VEVENT
BEGIN:VEVENT
DTSTART;TZID=America/Denver:20260415T110000
DTEND;TZID=America/Denver:20260415T130000
DTSTAMP:20260424T094354
CREATED:20260326T220609Z
LAST-MODIFIED:20260326T220636Z
UID:10003687-1776250800-1776258000@ccaurora.edu
SUMMARY:Activities with BMO Bank
DESCRIPTION:Come play Kahoot! and other games. For more information\, contact financialaid@ccaurora.edu.
URL:https://ccaurora.edu/event/activities-with-bmo-bank/
LOCATION:CentreTech Campus CAST Building 106
END:VEVENT
BEGIN:VEVENT
DTSTART;TZID=America/Denver:20260414T120000
DTEND;TZID=America/Denver:20260414T130000
DTSTAMP:20260424T094354
CREATED:20260407T184926Z
LAST-MODIFIED:20260407T184926Z
UID:10003693-1776168000-1776171600@ccaurora.edu
SUMMARY:Winging It With Leadership
DESCRIPTION:Dr. Brownlee and other college leaders tackle five progressively spicy wings\, answering deeper and hotter questions with each bite. Free lunch is provided and the first 15 attendees get a CCA Swag bag!
URL:https://ccaurora.edu/event/winging-it-with-leadership/
LOCATION:CentreTech Campus Fine Arts Building Heritage Hall F100
END:VEVENT
BEGIN:VEVENT
DTSTART;TZID=America/Denver:20260414T110000
DTEND;TZID=America/Denver:20260414T130000
DTSTAMP:20260424T094354
CREATED:20260326T220435Z
LAST-MODIFIED:20260326T221632Z
UID:10003685-1776164400-1776171600@ccaurora.edu
SUMMARY:Scholarship and FAFSA Workshop
DESCRIPTION:Apply for Summer 2026 and Fall 2026. Bring your laptop and writing skills! \nFor more information\, contact financialaid@ccaurora.edu.
URL:https://ccaurora.edu/event/scholarship-and-fafsa-workshop/
LOCATION:CentreTech Campus Classroom Building Room 309
END:VEVENT
BEGIN:VEVENT
DTSTART;VALUE=DATE:20260414
DTEND;VALUE=DATE:20260415
DTSTAMP:20260424T094354
CREATED:20250819T143731Z
LAST-MODIFIED:20251124T225529Z
UID:10003071-1776124800-1776211199@ccaurora.edu
SUMMARY:Red Shirt Tuesday
DESCRIPTION:Wear your CCA red shirt every Tuesday to be entered into a raffle for a free meal at the cafe!! \n  \nStop by the division of Student Success or fill out the form HERE \nCTC: Student Center S101 \nLowry Studios: Room 112 \nCentennial: Foxy’s Resource Center
URL:https://ccaurora.edu/event/red-shirt-tuesday/2026-04-14/
END:VEVENT
BEGIN:VEVENT
DTSTART;TZID=America/Denver:20260413T140000
DTEND;TZID=America/Denver:20260413T170000
DTSTAMP:20260424T094354
CREATED:20260316T204336Z
LAST-MODIFIED:20260316T204541Z
UID:10003655-1776088800-1776099600@ccaurora.edu
SUMMARY:Financial Aid Walk-In Assistance
DESCRIPTION:Come to the CCA Financial Aid Office for special walk-in assistance with completing the FAFSA/CASFA Applications. \nTo make an in-person appointment\, call 303-0360-4709 or email Financialaid.CCA@CCAurora.edu. \nPrefer to meet virtually? Call 303-352-8746\, Text 303-552-5344 Or email EOC@CCD.EDU.
URL:https://ccaurora.edu/event/financial-aid-walk-in-assistance-2/2026-04-13/
LOCATION:CentreTech Campus Administration Building 103H
END:VEVENT
BEGIN:VEVENT
DTSTART;TZID=America/Denver:20260413T110000
DTEND;TZID=America/Denver:20260413T130000
DTSTAMP:20260424T094354
CREATED:20260326T220200Z
LAST-MODIFIED:20260326T220200Z
UID:10003683-1776078000-1776085200@ccaurora.edu
SUMMARY:Ramen To Riches Tabling Game
DESCRIPTION:For more information\, contact financialaid@ccaurora.edu.
URL:https://ccaurora.edu/event/ramen-to-riches-tabling-game/
LOCATION:Centennial Campus Room 110
END:VEVENT
BEGIN:VEVENT
DTSTART;TZID=America/Denver:20260413T103000
DTEND;TZID=America/Denver:20260413T133000
DTSTAMP:20260424T094354
CREATED:20250819T143335Z
LAST-MODIFIED:20251028T225023Z
UID:10003380-1776076200-1776087000@ccaurora.edu
SUMMARY:Foxy's Mobile Market
DESCRIPTION:A free food market for CCA students and employees
URL:https://ccaurora.edu/event/foxys-mobile-market-14/2026-04-13/
LOCATION:CentreTech Campus Student Center Parking Lot
END:VEVENT
BEGIN:VEVENT
DTSTART;TZID=America/Denver:20260411T100000
DTEND;TZID=America/Denver:20260411T130000
DTSTAMP:20260424T094354
CREATED:20250912T203049Z
LAST-MODIFIED:20250912T203300Z
UID:10003322-1775901600-1775912400@ccaurora.edu
SUMMARY:Cinematic Arts Open House
DESCRIPTION:Tour our professional studio facilities \n\nMeet faculty and industry-experienced instructors\nLearn about our degrees and certificates in Cinematic Arts\nGet help with enrollment and how to get started\n\nRSVP here
URL:https://ccaurora.edu/event/cinematic-arts-open-house-2/
LOCATION:Lowry Studios\, 9075 E. Lowry Blvd.\, Denver\, CO\, 80230\, United States
END:VEVENT
BEGIN:VEVENT
DTSTART;TZID=America/Denver:20260410T081500
DTEND;TZID=America/Denver:20260410T140000
DTSTAMP:20260424T094354
CREATED:20260209T214418Z
LAST-MODIFIED:20260209T214418Z
UID:10003540-1775808900-1775829600@ccaurora.edu
SUMMARY:CU Denver Campus Visit - STEM Focus
DESCRIPTION:Join us for an inside look at CU Denver\, including: \n\nGuided campus tour\, including the College of Engineering building & classrooms\nLearn about STEM degrees with a CU Denver overview presentation\nAsk questions during a student panel\nSee the latest robotics creation\n\nTransportation and lunch are provided. Register here by Friday\, March 20. \nQuestions? Contact Kate.Yonce@ccaurora.edu or Catherine.Cooper@ccaurora.edu.
URL:https://ccaurora.edu/event/cu-denver-campus-visit-stem-focus/
LOCATION:CentreTech Campus Parking Lot
END:VEVENT
BEGIN:VEVENT
DTSTART;TZID=America/Denver:20260409T150000
DTEND;TZID=America/Denver:20260409T160000
DTSTAMP:20260424T094354
CREATED:20260220T163626Z
LAST-MODIFIED:20260220T163626Z
UID:10003607-1775746800-1775750400@ccaurora.edu
SUMMARY:Advocating for Yourself
DESCRIPTION:Build confidence by practicing how to ask questions and navigate conversations through real-life role-play. \nJoin the virtual event via Zoom.
URL:https://ccaurora.edu/event/advocating-for-yourself-2/
LOCATION:Virtual
END:VEVENT
BEGIN:VEVENT
DTSTART;TZID=America/Denver:20260408T083000
DTEND;TZID=America/Denver:20260408T143000
DTSTAMP:20260424T094354
CREATED:20250911T200733Z
LAST-MODIFIED:20260302T190555Z
UID:10003320-1775637000-1775658600@ccaurora.edu
SUMMARY:Future Fox Day
DESCRIPTION:Calling all graduating high school seniors: Join us for Future Fox Day at CCA’s CentreTech Campus and take the next step toward your future. This event is your opportunity to: \n\nEnroll at the Community College of Aurora\nExplore the campus and learn about the academic programs and support services\nConnect with staff and get answers to your questions\n\nRegister online by April 3\, 2026 to attend.
URL:https://ccaurora.edu/event/future-fox-day-2026/
LOCATION:CentreTech Campus\, 16000 E Centretech Pkwy\, Aurora\, CO\, 80011\, United States
END:VEVENT
BEGIN:VEVENT
DTSTART;TZID=America/Denver:20260407T123000
DTEND;TZID=America/Denver:20260407T133000
DTSTAMP:20260424T094354
CREATED:20260220T163456Z
LAST-MODIFIED:20260220T163456Z
UID:10003605-1775565000-1775568600@ccaurora.edu
SUMMARY:Advocating for Yourself
DESCRIPTION:Build confidence by practicing how to ask questions and navigate conversations through real-life role-play.
URL:https://ccaurora.edu/event/advocating-for-yourself/
LOCATION:CentreTech Campus Student Center Wellness Den
END:VEVENT
BEGIN:VEVENT
DTSTART;TZID=America/Denver:20260407T030000
DTEND;TZID=America/Denver:20260407T173000
DTSTAMP:20260424T094354
CREATED:20260316T204336Z
LAST-MODIFIED:20260316T204541Z
UID:10003654-1775530800-1775583000@ccaurora.edu
SUMMARY:Financial Aid Walk-In Assistance
DESCRIPTION:Come to the CCA Financial Aid Office for special walk-in assistance with completing the FAFSA/CASFA Applications. \nTo make an in-person appointment\, call 303-0360-4709 or email Financialaid.CCA@CCAurora.edu. \nPrefer to meet virtually? Call 303-352-8746\, Text 303-552-5344 Or email EOC@CCD.EDU.
URL:https://ccaurora.edu/event/financial-aid-walk-in-assistance-2/2026-04-07/
LOCATION:CentreTech Campus Administration Building 103H
END:VEVENT
BEGIN:VEVENT
DTSTART;VALUE=DATE:20260407
DTEND;VALUE=DATE:20260408
DTSTAMP:20260424T094354
CREATED:20250819T143731Z
LAST-MODIFIED:20251124T225529Z
UID:10003070-1775520000-1775606399@ccaurora.edu
SUMMARY:Red Shirt Tuesday
DESCRIPTION:Wear your CCA red shirt every Tuesday to be entered into a raffle for a free meal at the cafe!! \n  \nStop by the division of Student Success or fill out the form HERE \nCTC: Student Center S101 \nLowry Studios: Room 112 \nCentennial: Foxy’s Resource Center
URL:https://ccaurora.edu/event/red-shirt-tuesday/2026-04-07/
END:VEVENT
BEGIN:VEVENT
DTSTART;TZID=America/Denver:20260404T190000
DTEND;TZID=America/Denver:20260404T200000
DTSTAMP:20260424T094354
CREATED:20260306T172628Z
LAST-MODIFIED:20260306T172628Z
UID:10003630-1775329200-1775332800@ccaurora.edu
SUMMARY:13 Ways to Screw Up Your College Interview
DESCRIPTION:This comedic play was written by Ian McWethy.
URL:https://ccaurora.edu/event/13-ways-to-screw-up-your-college-interview/2026-04-04/
LOCATION:CentreTech Campus Larry D. Carter Theater\, Fine Arts Building 110
END:VEVENT
END:VCALENDAR