BEGIN:VCALENDAR
VERSION:2.0
PRODID:-//Community College of Aurora - ECPv6.15.20//NONSGML v1.0//EN
CALSCALE:GREGORIAN
METHOD:PUBLISH
X-ORIGINAL-URL:https://ccaurora.edu
X-WR-CALDESC:Events for Community College of Aurora
REFRESH-INTERVAL;VALUE=DURATION:PT1H
X-Robots-Tag:noindex
X-PUBLISHED-TTL:PT1H
BEGIN:VTIMEZONE
TZID:America/Denver
BEGIN:DAYLIGHT
TZOFFSETFROM:-0700
TZOFFSETTO:-0600
TZNAME:MDT
DTSTART:20220313T090000
END:DAYLIGHT
BEGIN:STANDARD
TZOFFSETFROM:-0600
TZOFFSETTO:-0700
TZNAME:MST
DTSTART:20221106T080000
END:STANDARD
BEGIN:DAYLIGHT
TZOFFSETFROM:-0700
TZOFFSETTO:-0600
TZNAME:MDT
DTSTART:20230312T090000
END:DAYLIGHT
BEGIN:STANDARD
TZOFFSETFROM:-0600
TZOFFSETTO:-0700
TZNAME:MST
DTSTART:20231105T080000
END:STANDARD
BEGIN:DAYLIGHT
TZOFFSETFROM:-0700
TZOFFSETTO:-0600
TZNAME:MDT
DTSTART:20240310T090000
END:DAYLIGHT
BEGIN:STANDARD
TZOFFSETFROM:-0600
TZOFFSETTO:-0700
TZNAME:MST
DTSTART:20241103T080000
END:STANDARD
END:VTIMEZONE
BEGIN:VEVENT
DTSTART;TZID=America/Denver:20231110T100000
DTEND;TZID=America/Denver:20231110T110000
DTSTAMP:20260422T134953
CREATED:20230329T000445Z
LAST-MODIFIED:20230329T000445Z
UID:10000227-1699610400-1699614000@ccaurora.edu
SUMMARY:Financial Aid Friday
DESCRIPTION:Question & Answer Session
URL:https://ccaurora.edu/event/financial-aid-friday-8/
LOCATION:CO
CATEGORIES:Campus Events
END:VEVENT
BEGIN:VEVENT
DTSTART;TZID=America/Denver:20231013T100000
DTEND;TZID=America/Denver:20231013T110000
DTSTAMP:20260422T134953
CREATED:20230329T000430Z
LAST-MODIFIED:20230329T000430Z
UID:10000226-1697191200-1697194800@ccaurora.edu
SUMMARY:Financial Aid Friday
DESCRIPTION:Financial Responsibility (Loans & Repayment)
URL:https://ccaurora.edu/event/financial-aid-friday-7/
LOCATION:CO
CATEGORIES:Campus Events
END:VEVENT
BEGIN:VEVENT
DTSTART;TZID=America/Denver:20230908T100000
DTEND;TZID=America/Denver:20230908T110000
DTSTAMP:20260422T134953
CREATED:20230329T000430Z
LAST-MODIFIED:20230329T000430Z
UID:10000225-1694167200-1694170800@ccaurora.edu
SUMMARY:Financial Aid Friday
DESCRIPTION:What’s up with Work Study?
URL:https://ccaurora.edu/event/financial-aid-friday-6/
LOCATION:CO
CATEGORIES:Campus Events
END:VEVENT
BEGIN:VEVENT
DTSTART;TZID=America/Denver:20230825T180000
DTEND;TZID=America/Denver:20230825T180000
DTSTAMP:20260422T134953
CREATED:20230725T211326Z
LAST-MODIFIED:20230725T211432Z
UID:10000365-1692986400-1692986400@ccaurora.edu
SUMMARY:Welcome Week: Super Smash Bros Tournament/Billiards Tournament (CentreTech)
DESCRIPTION:Join us at the New Student Lounge in the Student Centre as we close out Welcome Week with our Super Smash Bros Tournament/Billiards Tournament! Prizes will be given out to the winners!
URL:https://ccaurora.edu/event/welcome-week-super-smash-bros-tournament-billiards-tournament/
LOCATION:CentreTech Campus\, 16000 E Centretech Pkwy\, Aurora\, CO\, 80011\, United States
CATEGORIES:Campus Events
END:VEVENT
BEGIN:VEVENT
DTSTART;TZID=America/Denver:20230824T110000
DTEND;TZID=America/Denver:20230824T140000
DTSTAMP:20260422T134953
CREATED:20230725T210051Z
LAST-MODIFIED:20230725T210145Z
UID:10000364-1692874800-1692885600@ccaurora.edu
SUMMARY:Welcome Week: Involvement Fair (Lowry)
DESCRIPTION:Join us in the West Quad\, Bergren Room at Lowry Campus as we host our Involvement Fair!
URL:https://ccaurora.edu/event/welcome-week-involvement-fair-lowry/
LOCATION:CO
CATEGORIES:Campus Events
END:VEVENT
BEGIN:VEVENT
DTSTART;TZID=America/Denver:20230823T153000
DTEND;TZID=America/Denver:20230823T180000
DTSTAMP:20260422T134953
CREATED:20230725T205635Z
LAST-MODIFIED:20230725T205635Z
UID:10000363-1692804600-1692813600@ccaurora.edu
SUMMARY:Welcome Week: Involvement Fair (CentreTech)
DESCRIPTION:Join us in the Rotunda of the Student Centre at CentreTech Campus as we host our Involvement Fair!
URL:https://ccaurora.edu/event/welcome-week-involvement-fair-centretech/
LOCATION:CentreTech Campus\, 16000 E Centretech Pkwy\, Aurora\, CO\, 80011\, United States
CATEGORIES:Campus Events
END:VEVENT
BEGIN:VEVENT
DTSTART;TZID=America/Denver:20230823T100000
DTEND;TZID=America/Denver:20230823T150000
DTSTAMP:20260422T134953
CREATED:20230725T204908Z
LAST-MODIFIED:20230725T204908Z
UID:10000362-1692784800-1692802800@ccaurora.edu
SUMMARY:Welcome Week: Farm to Families Farmers Market (Lowry)
DESCRIPTION:Join us at the North Quad Campus Parking Lot of Lowry Campus for our Farm to Families Farmers Market!
URL:https://ccaurora.edu/event/welcome-week-farm-to-families-farmers-market-lowry/
LOCATION:CO
CATEGORIES:Campus Events
END:VEVENT
BEGIN:VEVENT
DTSTART;TZID=America/Denver:20230822T110000
DTEND;TZID=America/Denver:20230822T140000
DTSTAMP:20260422T134953
CREATED:20230725T203653Z
LAST-MODIFIED:20230725T204256Z
UID:10000360-1692702000-1692712800@ccaurora.edu
SUMMARY:Welcome Week: Welcome Back Celebration (Lowry)
DESCRIPTION:Join us in the West Quad Lawn as we kick off Welcome Week at the Lowry Campus with our Welcome Back Celebration!
URL:https://ccaurora.edu/event/welcome-week-welcome-back-celebration-lowry/
LOCATION:CO
CATEGORIES:Campus Events
END:VEVENT
BEGIN:VEVENT
DTSTART;TZID=America/Denver:20230822T100000
DTEND;TZID=America/Denver:20230822T150000
DTSTAMP:20260422T134953
CREATED:20230725T204215Z
LAST-MODIFIED:20230725T204215Z
UID:10000361-1692698400-1692716400@ccaurora.edu
SUMMARY:Welcome Week: Farm to Families Farmers Market (CentreTech)
DESCRIPTION:Join us at the Student Centre Parking Lot of CentreTech Campus for day 2 of Welcome Week with our Farm to Families Farmers Market!
URL:https://ccaurora.edu/event/welcome-week-farm-to-families-farmers-market-centretech/
LOCATION:CentreTech Campus\, 16000 E Centretech Pkwy\, Aurora\, CO\, 80011\, United States
CATEGORIES:Campus Events
END:VEVENT
BEGIN:VEVENT
DTSTART;TZID=America/Denver:20230821T110000
DTEND;TZID=America/Denver:20230821T140000
DTSTAMP:20260422T134953
CREATED:20230725T202709Z
LAST-MODIFIED:20230725T203115Z
UID:10000359-1692615600-1692626400@ccaurora.edu
SUMMARY:Welcome Week: Welcome Back Celebration (CentreTech)
DESCRIPTION:Join us at the lawn between the Classroom and Fine Arts buildings as we kick off Welcome Week with our Welcome Back Celebration!
URL:https://ccaurora.edu/event/welcome-week-welcome-back-celebration/
LOCATION:CentreTech Campus\, 16000 E Centretech Pkwy\, Aurora\, CO\, 80011\, United States
CATEGORIES:Campus Events
END:VEVENT
BEGIN:VEVENT
DTSTART;TZID=America/Denver:20230720T120000
DTEND;TZID=America/Denver:20230720T140000
DTSTAMP:20260422T134953
CREATED:20230718T175042Z
LAST-MODIFIED:20230720T141211Z
UID:10000347-1689854400-1689861600@ccaurora.edu
SUMMARY:Summer Semester Bash - Lowry Campus
DESCRIPTION:Inside the West Quad Café
URL:https://ccaurora.edu/event/summer-semester-bash-lowry-campus/
LOCATION:CO
CATEGORIES:Campus Events
END:VEVENT
BEGIN:VEVENT
DTSTART;TZID=America/Denver:20230707T100000
DTEND;TZID=America/Denver:20230707T110000
DTSTAMP:20260422T134953
CREATED:20230329T000430Z
LAST-MODIFIED:20230329T000430Z
UID:10000224-1688724000-1688727600@ccaurora.edu
SUMMARY:Financial Aid Friday
DESCRIPTION:Alternative Options for Financial Aid
URL:https://ccaurora.edu/event/financial-aid-friday-5/
LOCATION:CO
CATEGORIES:Campus Events
END:VEVENT
BEGIN:VEVENT
DTSTART;TZID=America/Denver:20230512T100000
DTEND;TZID=America/Denver:20230512T110000
DTSTAMP:20260422T134953
CREATED:20230329T000430Z
LAST-MODIFIED:20230329T000430Z
UID:10000223-1683885600-1683889200@ccaurora.edu
SUMMARY:Financial Aid Friday
DESCRIPTION:Let’s Talk MAP & SAP
URL:https://ccaurora.edu/event/financial-aid-friday-4/
LOCATION:CO
CATEGORIES:Campus Events
END:VEVENT
BEGIN:VEVENT
DTSTART;TZID=America/Denver:20230422T190000
DTEND;TZID=America/Denver:20230422T203000
DTSTAMP:20260422T134953
CREATED:20230419T204056Z
LAST-MODIFIED:20230419T204056Z
UID:10000257-1682190000-1682195400@ccaurora.edu
SUMMARY:365 Days/365 Plays
DESCRIPTION:A series of micro-plays exploring identity\, time\, race & community. The journey of continuing on\, when there is no path in sight. \nCommunity College of Aurora \nLarry D. Carter Theater \nCCA CentreTech Campus \nFine Arts Building (F-110) \n*FREE ADMISSION* \nDoors open 30 minutes before the performance starts.
URL:https://ccaurora.edu/event/365-days-365-plays-3/
LOCATION:CentreTech Campus\, 16000 E Centretech Pkwy\, Aurora\, CO\, 80011\, United States
CATEGORIES:Campus Events
END:VEVENT
BEGIN:VEVENT
DTSTART;TZID=America/Denver:20230422T140000
DTEND;TZID=America/Denver:20230422T153000
DTSTAMP:20260422T134953
CREATED:20230419T204305Z
LAST-MODIFIED:20230419T204305Z
UID:10000259-1682172000-1682177400@ccaurora.edu
SUMMARY:365 Days/365 Plays
DESCRIPTION:A series of micro-plays exploring identity\, time\, race & community. The journey of continuing on\, when there is no path in sight. \nCommunity College of Aurora \nLarry D. Carter Theater \nCCA CentreTech Campus \nFine Arts Building (F-110) \n*FREE ADMISSION* \nDoors open 30 minutes before the performance starts.
URL:https://ccaurora.edu/event/365-days-365-plays-5/
LOCATION:CentreTech Campus\, 16000 E Centretech Pkwy\, Aurora\, CO\, 80011\, United States
CATEGORIES:Campus Events
END:VEVENT
BEGIN:VEVENT
DTSTART;TZID=America/Denver:20230421T190000
DTEND;TZID=America/Denver:20230421T203000
DTSTAMP:20260422T134953
CREATED:20230419T203922Z
LAST-MODIFIED:20230419T203922Z
UID:10000256-1682103600-1682109000@ccaurora.edu
SUMMARY:365 Days/365 Plays
DESCRIPTION:A series of micro-plays exploring identity\, time\, race & community. The journey of continuing on\, when there is no path in sight. \nCommunity College of Aurora \nLarry D. Carter Theater \nCCA CentreTech Campus \nFine Arts Building (F-110) \n*FREE ADMISSION* \nDoors open 30 minutes before the performance starts.
URL:https://ccaurora.edu/event/365-days-365-plays-2/
LOCATION:CentreTech Campus\, 16000 E Centretech Pkwy\, Aurora\, CO\, 80011\, United States
CATEGORIES:Campus Events
END:VEVENT
BEGIN:VEVENT
DTSTART;TZID=America/Denver:20230421T100000
DTEND;TZID=America/Denver:20230421T113000
DTSTAMP:20260422T134953
CREATED:20230419T204150Z
LAST-MODIFIED:20230419T204150Z
UID:10000258-1682071200-1682076600@ccaurora.edu
SUMMARY:365 Days/365 Plays
DESCRIPTION:A series of micro-plays exploring identity\, time\, race & community. The journey of continuing on\, when there is no path in sight. \nCommunity College of Aurora \nLarry D. Carter Theater \nCCA CentreTech Campus \nFine Arts Building (F-110) \n*FREE ADMISSION* \nDoors open 30 minutes before the performance starts.
URL:https://ccaurora.edu/event/365-days-365-plays-4/
LOCATION:CentreTech Campus\, 16000 E Centretech Pkwy\, Aurora\, CO\, 80011\, United States
CATEGORIES:Campus Events
END:VEVENT
BEGIN:VEVENT
DTSTART;TZID=America/Denver:20230420T190000
DTEND;TZID=America/Denver:20230420T203000
DTSTAMP:20260422T134953
CREATED:20230419T203805Z
LAST-MODIFIED:20230419T204006Z
UID:10000255-1682017200-1682022600@ccaurora.edu
SUMMARY:365 Days/365 Plays
DESCRIPTION:A series of micro-plays exploring identity\, time\, race & community. The journey of continuing on\, when there is no path in sight. \nCommunity College of Aurora \nLarry D. Carter Theater \nCCA CentreTech Campus \nFine Arts Building (F-110) \n*FREE ADMISSION* \nDoors open 30 minutes before the performance starts.
URL:https://ccaurora.edu/event/365-days-365-plays/
LOCATION:CentreTech Campus\, 16000 E Centretech Pkwy\, Aurora\, CO\, 80011\, United States
CATEGORIES:Campus Events
END:VEVENT
BEGIN:VEVENT
DTSTART;TZID=America/Denver:20230407T100000
DTEND;TZID=America/Denver:20230407T110000
DTSTAMP:20260422T134953
CREATED:20230329T000430Z
LAST-MODIFIED:20230329T000430Z
UID:10000222-1680861600-1680865200@ccaurora.edu
SUMMARY:Financial Aid Friday
DESCRIPTION:Return of Title IV Funds
URL:https://ccaurora.edu/event/financial-aid-friday-3/
LOCATION:CO
CATEGORIES:Campus Events
END:VEVENT
BEGIN:VEVENT
DTSTART;TZID=America/Denver:20230310T100000
DTEND;TZID=America/Denver:20230310T110000
DTSTAMP:20260422T134953
CREATED:20230329T000416Z
LAST-MODIFIED:20230329T000416Z
UID:10000221-1678442400-1678446000@ccaurora.edu
SUMMARY:Financial Aid Friday
DESCRIPTION:Scholarships/Grants
URL:https://ccaurora.edu/event/financial-aid-friday-2/
LOCATION:CO
CATEGORIES:Campus Events
END:VEVENT
BEGIN:VEVENT
DTSTART;TZID=America/Denver:20230210T100000
DTEND;TZID=America/Denver:20230210T110000
DTSTAMP:20260422T134953
CREATED:20230329T000415Z
LAST-MODIFIED:20230329T000415Z
UID:10000220-1676023200-1676026800@ccaurora.edu
SUMMARY:Financial Aid Friday
DESCRIPTION:Who Qualifies for Financial Aid?
URL:https://ccaurora.edu/event/financial-aid-friday/
LOCATION:CO
CATEGORIES:Campus Events
END:VEVENT
BEGIN:VEVENT
DTSTART;TZID=America/Denver:20230125T153000
DTEND;TZID=America/Denver:20230125T170000
DTSTAMP:20260422T134953
CREATED:20230329T000209Z
LAST-MODIFIED:20230418T183742Z
UID:10000172-1674660600-1674666000@ccaurora.edu
SUMMARY:Birthday Party
DESCRIPTION:
URL:https://ccaurora.edu/event/birthday-party/
LOCATION:CentreTech Campus\, 16000 E Centretech Pkwy\, Aurora\, CO\, 80011\, United States
CATEGORIES:Campus Events
END:VEVENT
END:VCALENDAR