BEGIN:VCALENDAR
VERSION:2.0
PRODID:-//Community College of Aurora - ECPv6.15.20//NONSGML v1.0//EN
CALSCALE:GREGORIAN
METHOD:PUBLISH
X-WR-CALNAME:Community College of Aurora
X-ORIGINAL-URL:https://ccaurora.edu
X-WR-CALDESC:Events for Community College of Aurora
REFRESH-INTERVAL;VALUE=DURATION:PT1H
X-Robots-Tag:noindex
X-PUBLISHED-TTL:PT1H
BEGIN:VTIMEZONE
TZID:America/Denver
BEGIN:DAYLIGHT
TZOFFSETFROM:-0700
TZOFFSETTO:-0600
TZNAME:MDT
DTSTART:20250309T090000
END:DAYLIGHT
BEGIN:STANDARD
TZOFFSETFROM:-0600
TZOFFSETTO:-0700
TZNAME:MST
DTSTART:20251102T080000
END:STANDARD
BEGIN:DAYLIGHT
TZOFFSETFROM:-0700
TZOFFSETTO:-0600
TZNAME:MDT
DTSTART:20260308T090000
END:DAYLIGHT
BEGIN:STANDARD
TZOFFSETFROM:-0600
TZOFFSETTO:-0700
TZNAME:MST
DTSTART:20261101T080000
END:STANDARD
BEGIN:DAYLIGHT
TZOFFSETFROM:-0700
TZOFFSETTO:-0600
TZNAME:MDT
DTSTART:20270314T090000
END:DAYLIGHT
BEGIN:STANDARD
TZOFFSETFROM:-0600
TZOFFSETTO:-0700
TZNAME:MST
DTSTART:20271107T080000
END:STANDARD
END:VTIMEZONE
BEGIN:VEVENT
DTSTART;VALUE=DATE:20260316
DTEND;VALUE=DATE:20260424
DTSTAMP:20260420T063304
CREATED:20260310T221315Z
LAST-MODIFIED:20260310T221315Z
UID:10003637-1773619200-1776988799@ccaurora.edu
SUMMARY:Faculty Art Show
DESCRIPTION:CCA’s Visual and Performing Arts presents works from our CCA art and design faculty. \nFor more information\, contact Julie Rada: julie.rada@ccaurora.edu
URL:https://ccaurora.edu/event/faculty-art-show/
LOCATION:CentreTech Campus Fine Arts Building
END:VEVENT
BEGIN:VEVENT
DTSTART;TZID=America/Denver:20260415T110000
DTEND;TZID=America/Denver:20260415T130000
DTSTAMP:20260420T063304
CREATED:20260326T220609Z
LAST-MODIFIED:20260326T220636Z
UID:10003687-1776250800-1776258000@ccaurora.edu
SUMMARY:Activities with BMO Bank
DESCRIPTION:Come play Kahoot! and other games. For more information\, contact financialaid@ccaurora.edu.
URL:https://ccaurora.edu/event/activities-with-bmo-bank/
LOCATION:CentreTech Campus CAST Building 106
END:VEVENT
BEGIN:VEVENT
DTSTART;TZID=America/Denver:20260415T113000
DTEND;TZID=America/Denver:20260415T123000
DTSTAMP:20260420T063304
CREATED:20260407T185648Z
LAST-MODIFIED:20260407T185648Z
UID:10003697-1776252600-1776256200@ccaurora.edu
SUMMARY:CCA Bingo
DESCRIPTION:Meet student-led organizations\, make new friends\, join a club\, and have a fun\, exciting time on campus—you won’t want to miss it. Play for a chance to win CCA swag.
URL:https://ccaurora.edu/event/cca-bingo/
LOCATION:Centennial Campus Common Space
END:VEVENT
END:VCALENDAR