BEGIN:VCALENDAR
VERSION:2.0
PRODID:-//Community College of Aurora - ECPv6.15.20//NONSGML v1.0//EN
CALSCALE:GREGORIAN
METHOD:PUBLISH
X-WR-CALNAME:Community College of Aurora
X-ORIGINAL-URL:https://ccaurora.edu
X-WR-CALDESC:Events for Community College of Aurora
REFRESH-INTERVAL;VALUE=DURATION:PT1H
X-Robots-Tag:noindex
X-PUBLISHED-TTL:PT1H
BEGIN:VTIMEZONE
TZID:America/Denver
BEGIN:DAYLIGHT
TZOFFSETFROM:-0700
TZOFFSETTO:-0600
TZNAME:MDT
DTSTART:20230312T090000
END:DAYLIGHT
BEGIN:STANDARD
TZOFFSETFROM:-0600
TZOFFSETTO:-0700
TZNAME:MST
DTSTART:20231105T080000
END:STANDARD
BEGIN:DAYLIGHT
TZOFFSETFROM:-0700
TZOFFSETTO:-0600
TZNAME:MDT
DTSTART:20240310T090000
END:DAYLIGHT
BEGIN:STANDARD
TZOFFSETFROM:-0600
TZOFFSETTO:-0700
TZNAME:MST
DTSTART:20241103T080000
END:STANDARD
BEGIN:DAYLIGHT
TZOFFSETFROM:-0700
TZOFFSETTO:-0600
TZNAME:MDT
DTSTART:20250309T090000
END:DAYLIGHT
BEGIN:STANDARD
TZOFFSETFROM:-0600
TZOFFSETTO:-0700
TZNAME:MST
DTSTART:20251102T080000
END:STANDARD
END:VTIMEZONE
BEGIN:VEVENT
DTSTART;VALUE=DATE:20240823
DTEND;VALUE=DATE:20240824
DTSTAMP:20260420T062943
CREATED:20240814T230159Z
LAST-MODIFIED:20250722T220601Z
UID:10001681-1724371200-1724457599@ccaurora.edu
SUMMARY:Welcome Week
DESCRIPTION:Monday\, August 19\n\nWelcome Back Celebration\nFREE T-Shirt Giveaway\nCentreTech Campus\n11 A.M. – 1 P.M. \nTech Talks in the HUB\nHow to login to MyCCA: Email & Navigate Help\nCentreTech/Lowry Campus | HUB\n12 P.M. – 12:30 P.M. \nTuesday\, August 20 \nWelcome Back Celebration & Involvement Fair\nFREE T-Shirt Giveaway\nStudents can learn about campus resources\nLowry Campus | West Quad Grass Area\n4 P.M. – 6 P.M. \nWednesday\, August 21 \nInvolvement Fair\nStudents can learn about resources available\nCentreTech Campus | Rotunda\n11 A.M. 12 P.M. \nThursday\, August 22 \nFoxy Mobile Market\nStudents can come get free groceries and learn about Student Advocacy services \nCentreTech Campus | Student Center Parking Lot\n10:30 A.M. – 12:30 P.M.\nLowry Studios\n1:30 P.M. – 3 P.M. \nMeet the President\, Dr. Brownlee!\nLowry Studios\n1:30 P.M. – 2:30 P.M. \nFriday\, August 23 \nMovie Night: Barbie\nSnacks provided!\nCentreTech | Larry B. Carter Theater\n5 P.M. \nOmega Psi Phi Blood Drive\nCentreTech Campus | Classroom 207A&B\n1 P.M. – 6 P.M. \nCongressman Crow’s Job Fair\nCentreTech Campus | Rotunda\n12 P.M. – 5 P.M.
URL:https://ccaurora.edu/event/welcome-week/2024-08-23/
END:VEVENT
BEGIN:VEVENT
DTSTART;TZID=America/Denver:20240823T120000
DTEND;TZID=America/Denver:20240823T170000
DTSTAMP:20260420T062943
CREATED:20240802T224156Z
LAST-MODIFIED:20240802T224156Z
UID:10001663-1724414400-1724432400@ccaurora.edu
SUMMARY:Jason Crow Job Fair Event
DESCRIPTION:Friday\, August 23 | 12 – 5 p.m. \nCentreTech Campus\, Student Center\, Rotunda
URL:https://ccaurora.edu/event/jason-crow-job-fair-event/
ATTACH;FMTTYPE=image/jpeg:https://ccaurora.edu/wp-content/uploads/2024/08/JasonCrowJobFair_DigitalGraphics_2024_2.jpg
END:VEVENT
BEGIN:VEVENT
DTSTART;TZID=America/Denver:20240823T130000
DTEND;TZID=America/Denver:20240823T180000
DTSTAMP:20260420T062943
CREATED:20240807T225253Z
LAST-MODIFIED:20240807T225253Z
UID:10001672-1724418000-1724436000@ccaurora.edu
SUMMARY:Blood Drive
DESCRIPTION:Omega Psi Phi Fraternity Inc.\nLambda Delta Delta Chapter \nCommunity College of Aurora \nCentreTech Campus\nClassroom Building – Room 207 A&B\n16000 E. Centretech Pkwy.\nAurora\, CO 80011 \nFriday\, August 23\, 2024\n1:00 p.m. to 6:00 p.m. \nFor an appointment or more information.\nplease call 1-800-RED CROSS (1-800-733-2767)\nor visit RedCrossBlood.org and use sponsor code: OPPLDD \nBring a photo ID or your blood donor card\, or two other forms of ID.\nYou can save up to 15 minutes when you donate blood by using RapidPass! \nVisit RedCrossBlood.org/RapidPass for more information\nDonors needed! Come give blood in August for $20
URL:https://ccaurora.edu/event/blood-drive/
ATTACH;FMTTYPE=image/jpeg:https://ccaurora.edu/wp-content/uploads/2024/08/blooddrive.jpg
END:VEVENT
END:VCALENDAR