BEGIN:VCALENDAR
VERSION:2.0
PRODID:-//Community College of Aurora - ECPv6.15.20//NONSGML v1.0//EN
CALSCALE:GREGORIAN
METHOD:PUBLISH
X-ORIGINAL-URL:https://ccaurora.edu
X-WR-CALDESC:Events for Community College of Aurora
REFRESH-INTERVAL;VALUE=DURATION:PT1H
X-Robots-Tag:noindex
X-PUBLISHED-TTL:PT1H
BEGIN:VTIMEZONE
TZID:America/Denver
BEGIN:DAYLIGHT
TZOFFSETFROM:-0700
TZOFFSETTO:-0600
TZNAME:MDT
DTSTART:20230312T090000
END:DAYLIGHT
BEGIN:STANDARD
TZOFFSETFROM:-0600
TZOFFSETTO:-0700
TZNAME:MST
DTSTART:20231105T080000
END:STANDARD
BEGIN:DAYLIGHT
TZOFFSETFROM:-0700
TZOFFSETTO:-0600
TZNAME:MDT
DTSTART:20240310T090000
END:DAYLIGHT
BEGIN:STANDARD
TZOFFSETFROM:-0600
TZOFFSETTO:-0700
TZNAME:MST
DTSTART:20241103T080000
END:STANDARD
BEGIN:DAYLIGHT
TZOFFSETFROM:-0700
TZOFFSETTO:-0600
TZNAME:MDT
DTSTART:20250309T090000
END:DAYLIGHT
BEGIN:STANDARD
TZOFFSETFROM:-0600
TZOFFSETTO:-0700
TZNAME:MST
DTSTART:20251102T080000
END:STANDARD
END:VTIMEZONE
BEGIN:VEVENT
DTSTART;VALUE=DATE:20240819
DTEND;VALUE=DATE:20240820
DTSTAMP:20260422T043748
CREATED:20240814T230159Z
LAST-MODIFIED:20250722T220601Z
UID:10001677-1724025600-1724111999@ccaurora.edu
SUMMARY:Welcome Week
DESCRIPTION:Monday\, August 19\n\nWelcome Back Celebration\nFREE T-Shirt Giveaway\nCentreTech Campus\n11 A.M. – 1 P.M. \nTech Talks in the HUB\nHow to login to MyCCA: Email & Navigate Help\nCentreTech/Lowry Campus | HUB\n12 P.M. – 12:30 P.M. \nTuesday\, August 20 \nWelcome Back Celebration & Involvement Fair\nFREE T-Shirt Giveaway\nStudents can learn about campus resources\nLowry Campus | West Quad Grass Area\n4 P.M. – 6 P.M. \nWednesday\, August 21 \nInvolvement Fair\nStudents can learn about resources available\nCentreTech Campus | Rotunda\n11 A.M. 12 P.M. \nThursday\, August 22 \nFoxy Mobile Market\nStudents can come get free groceries and learn about Student Advocacy services \nCentreTech Campus | Student Center Parking Lot\n10:30 A.M. – 12:30 P.M.\nLowry Studios\n1:30 P.M. – 3 P.M. \nMeet the President\, Dr. Brownlee!\nLowry Studios\n1:30 P.M. – 2:30 P.M. \nFriday\, August 23 \nMovie Night: Barbie\nSnacks provided!\nCentreTech | Larry B. Carter Theater\n5 P.M. \nOmega Psi Phi Blood Drive\nCentreTech Campus | Classroom 207A&B\n1 P.M. – 6 P.M. \nCongressman Crow’s Job Fair\nCentreTech Campus | Rotunda\n12 P.M. – 5 P.M.
URL:https://ccaurora.edu/event/welcome-week/2024-08-19/
END:VEVENT
BEGIN:VEVENT
DTSTART;TZID=America/Denver:20240819T080000
DTEND;TZID=America/Denver:20240819T170000
DTSTAMP:20260422T043748
CREATED:20230627T194305Z
LAST-MODIFIED:20230627T194305Z
UID:10000289-1724054400-1724086800@ccaurora.edu
SUMMARY:Fall 2024 Semester Begins
DESCRIPTION:Fall 2024 Classes Start
URL:https://ccaurora.edu/event/fall-2024-semester-begins/
CATEGORIES:Important Academic Dates
END:VEVENT
BEGIN:VEVENT
DTSTART;TZID=America/Denver:20240819T080000
DTEND;TZID=America/Denver:20240819T170000
DTSTAMP:20260422T043748
CREATED:20240503T182241Z
LAST-MODIFIED:20240503T182241Z
UID:10000916-1724054400-1724086800@ccaurora.edu
SUMMARY:CAE Classes Summer and Fall 2024
DESCRIPTION:HSE AND CITIZENSHIP\nSummer Term 2024\nClasses begin July 8\nClasses end on September 14\nClass schedules and registration will be available soon. \nFall Term 2024\nClasses begin October 5 Classes end on December 14 \nNO CLASSES: September 2 and November 27-30 \nCOMMUNITY ESL\nSummer Semester 2024\nClasses begin May 28\nClasses end on August 5 \nNO CLASSES: June 19 and July 4 \nClass schedules and registration will be available soon. \nFall Semester 2024\nClasses begin August 19 Classes end on December 7 \nNO CLASSES: September 2 and November 26-30
URL:https://ccaurora.edu/event/cae-classes-summer-and-fall-2024/2024-08-19/
LOCATION:CentreTech Campus\, 16000 E Centretech Pkwy\, Aurora\, CO\, 80011\, United States
END:VEVENT
END:VCALENDAR