BEGIN:VCALENDAR
VERSION:2.0
PRODID:-//Community College of Aurora - ECPv6.15.20//NONSGML v1.0//EN
CALSCALE:GREGORIAN
METHOD:PUBLISH
X-WR-CALNAME:Community College of Aurora
X-ORIGINAL-URL:https://ccaurora.edu
X-WR-CALDESC:Events for Community College of Aurora
REFRESH-INTERVAL;VALUE=DURATION:PT1H
X-Robots-Tag:noindex
X-PUBLISHED-TTL:PT1H
BEGIN:VTIMEZONE
TZID:America/Denver
BEGIN:DAYLIGHT
TZOFFSETFROM:-0700
TZOFFSETTO:-0600
TZNAME:MDT
DTSTART:20230312T090000
END:DAYLIGHT
BEGIN:STANDARD
TZOFFSETFROM:-0600
TZOFFSETTO:-0700
TZNAME:MST
DTSTART:20231105T080000
END:STANDARD
BEGIN:DAYLIGHT
TZOFFSETFROM:-0700
TZOFFSETTO:-0600
TZNAME:MDT
DTSTART:20240310T090000
END:DAYLIGHT
BEGIN:STANDARD
TZOFFSETFROM:-0600
TZOFFSETTO:-0700
TZNAME:MST
DTSTART:20241103T080000
END:STANDARD
BEGIN:DAYLIGHT
TZOFFSETFROM:-0700
TZOFFSETTO:-0600
TZNAME:MDT
DTSTART:20250309T090000
END:DAYLIGHT
BEGIN:STANDARD
TZOFFSETFROM:-0600
TZOFFSETTO:-0700
TZNAME:MST
DTSTART:20251102T080000
END:STANDARD
END:VTIMEZONE
BEGIN:VEVENT
DTSTART;TZID=America/Denver:20240803T090000
DTEND;TZID=America/Denver:20240803T130000
DTSTAMP:20260420T062918
CREATED:20240730T180848Z
LAST-MODIFIED:20240730T180848Z
UID:10001160-1722675600-1722690000@ccaurora.edu
SUMMARY:FAFSA Rushes
DESCRIPTION:The CCA Financial Aid Office offers special walk-in assistance with Completing the FAFSA Application \nWe are here to assist walk-ins:\nCCA Financial Aid Office Computer Lab Room A103H.\nSaturday\, August 3\n9 a.m. – 1 p.m. \nPrefer to meet virtually? Call 303-352-8746\,\ntext 303-552-5344\, or email eoc@ccd.edu.\nPrefer an in-person appointment? Call 303-360-4709 or email financialaid.cca@ccaurora.edu.
URL:https://ccaurora.edu/event/fafsa-rushes-2/
LOCATION:CentreTech Campus\, 16000 E Centretech Pkwy\, Aurora\, CO\, 80011\, United States
END:VEVENT
END:VCALENDAR