BEGIN:VCALENDAR
VERSION:2.0
PRODID:-//Community College of Aurora - ECPv6.15.20//NONSGML v1.0//EN
CALSCALE:GREGORIAN
METHOD:PUBLISH
X-ORIGINAL-URL:https://ccaurora.edu
X-WR-CALDESC:Events for Community College of Aurora
REFRESH-INTERVAL;VALUE=DURATION:PT1H
X-Robots-Tag:noindex
X-PUBLISHED-TTL:PT1H
BEGIN:VTIMEZONE
TZID:America/Denver
BEGIN:DAYLIGHT
TZOFFSETFROM:-0700
TZOFFSETTO:-0600
TZNAME:MDT
DTSTART:20230312T090000
END:DAYLIGHT
BEGIN:STANDARD
TZOFFSETFROM:-0600
TZOFFSETTO:-0700
TZNAME:MST
DTSTART:20231105T080000
END:STANDARD
BEGIN:DAYLIGHT
TZOFFSETFROM:-0700
TZOFFSETTO:-0600
TZNAME:MDT
DTSTART:20240310T090000
END:DAYLIGHT
BEGIN:STANDARD
TZOFFSETFROM:-0600
TZOFFSETTO:-0700
TZNAME:MST
DTSTART:20241103T080000
END:STANDARD
BEGIN:DAYLIGHT
TZOFFSETFROM:-0700
TZOFFSETTO:-0600
TZNAME:MDT
DTSTART:20250309T090000
END:DAYLIGHT
BEGIN:STANDARD
TZOFFSETFROM:-0600
TZOFFSETTO:-0700
TZNAME:MST
DTSTART:20251102T080000
END:STANDARD
END:VTIMEZONE
BEGIN:VEVENT
DTSTART;TZID=America/Denver:20240708T080000
DTEND;TZID=America/Denver:20240708T170000
DTSTAMP:20260420T063304
CREATED:20240503T182241Z
LAST-MODIFIED:20240503T182241Z
UID:10000915-1720425600-1720458000@ccaurora.edu
SUMMARY:CAE Classes Summer and Fall 2024
DESCRIPTION:HSE AND CITIZENSHIP\nSummer Term 2024\nClasses begin July 8\nClasses end on September 14\nClass schedules and registration will be available soon. \nFall Term 2024\nClasses begin October 5 Classes end on December 14 \nNO CLASSES: September 2 and November 27-30 \nCOMMUNITY ESL\nSummer Semester 2024\nClasses begin May 28\nClasses end on August 5 \nNO CLASSES: June 19 and July 4 \nClass schedules and registration will be available soon. \nFall Semester 2024\nClasses begin August 19 Classes end on December 7 \nNO CLASSES: September 2 and November 26-30
URL:https://ccaurora.edu/event/cae-classes-summer-and-fall-2024/2024-07-08/
LOCATION:CentreTech Campus\, 16000 E Centretech Pkwy\, Aurora\, CO\, 80011\, United States
END:VEVENT
BEGIN:VEVENT
DTSTART;TZID=America/Denver:20240708T140000
DTEND;TZID=America/Denver:20240708T170000
DTSTAMP:20260420T063304
CREATED:20240517T181831Z
LAST-MODIFIED:20240517T181831Z
UID:10000926-1720447200-1720458000@ccaurora.edu
SUMMARY:FAFSA Rushes
DESCRIPTION:The CCA Financial Aid Office offers special walk-in assistance with Completing the FAFSA Application \nWe are here to assist walk-ins: \nMonday\, July 8 | 2 – 5 p.m.\nWednesday\, July 10 | 4 – 6 p.m.\nThursday\, July 18 | 9 a.m. – 1 p.m.\nMonday\, July 22 | 2 – 5 p.m.\nThursday\, July 25 | 4 – 6 p.m. CCA Financial Aid Office Computer Lab Room A103H. \n\n\n\n\n\nPrefer to meet virtually? Call 303-352-8746\, text 303- 552-5344\, or email EOC@CCD.edu.\nPrefer an in-person appointment? Call 303-360-4709 or email FinancialAid.CCA@CCAurora.edu.
URL:https://ccaurora.edu/event/fafsa-rushes/2024-07-08/
END:VEVENT
END:VCALENDAR