BEGIN:VCALENDAR
VERSION:2.0
PRODID:-//Community College of Aurora - ECPv6.15.20//NONSGML v1.0//EN
CALSCALE:GREGORIAN
METHOD:PUBLISH
X-ORIGINAL-URL:https://ccaurora.edu/es/
X-WR-CALDESC:Eventos para Community College of Aurora
REFRESH-INTERVAL;VALUE=DURATION:PT1H
X-Robots-Tag:noindex
X-PUBLISHED-TTL:PT1H
BEGIN:VTIMEZONE
TZID:America/Denver
BEGIN:DAYLIGHT
TZOFFSETFROM:-0700
TZOFFSETTO:-0600
TZNAME:MDT
DTSTART:20240310T090000
END:DAYLIGHT
BEGIN:STANDARD
TZOFFSETFROM:-0600
TZOFFSETTO:-0700
TZNAME:MST
DTSTART:20241103T080000
END:STANDARD
BEGIN:DAYLIGHT
TZOFFSETFROM:-0700
TZOFFSETTO:-0600
TZNAME:MDT
DTSTART:20250309T090000
END:DAYLIGHT
BEGIN:STANDARD
TZOFFSETFROM:-0600
TZOFFSETTO:-0700
TZNAME:MST
DTSTART:20251102T080000
END:STANDARD
BEGIN:DAYLIGHT
TZOFFSETFROM:-0700
TZOFFSETTO:-0600
TZNAME:MDT
DTSTART:20260308T090000
END:DAYLIGHT
BEGIN:STANDARD
TZOFFSETFROM:-0600
TZOFFSETTO:-0700
TZNAME:MST
DTSTART:20261101T080000
END:STANDARD
BEGIN:DAYLIGHT
TZOFFSETFROM:-0700
TZOFFSETTO:-0600
TZNAME:MDT
DTSTART:20270314T090000
END:DAYLIGHT
BEGIN:STANDARD
TZOFFSETFROM:-0600
TZOFFSETTO:-0700
TZNAME:MST
DTSTART:20271107T080000
END:STANDARD
END:VTIMEZONE
BEGIN:VEVENT
DTSTART;TZID=America/Denver:20251224T080000
DTEND;TZID=America/Denver:20260101T080000
DTSTAMP:20260422T063951
CREATED:20230627T223558Z
LAST-MODIFIED:20231016T160744Z
UID:10003398-1766563200-1767254400@ccaurora.edu
SUMMARY:Vacaciones de Invierno (Colegio Cerrado)
DESCRIPTION:
URL:https://ccaurora.edu/es/event/vacaciones-de-invierno-colegio-cerrado-3/
CATEGORIES:Fechas Académicas Importantes
END:VEVENT
BEGIN:VEVENT
DTSTART;VALUE=DATE:20260106
DTEND;VALUE=DATE:20260107
DTSTAMP:20260422T063952
CREATED:20250312T185152Z
LAST-MODIFIED:20250312T185152Z
UID:10002897-1767657600-1767743999@ccaurora.edu
SUMMARY:Primavera 2026 | Primera entrega por aviso de impago
DESCRIPTION:
URL:https://ccaurora.edu/es/event/primavera-2026-primera-entrega-por-aviso-de-impago/
CATEGORIES:Plazos de Pago
END:VEVENT
BEGIN:VEVENT
DTSTART;TZID=America/Denver:20260110T090000
DTEND;TZID=America/Denver:20260110T123000
DTSTAMP:20260422T063952
CREATED:20251021T173423Z
LAST-MODIFIED:20251021T173423Z
UID:10003446-1768035600-1768048200@ccaurora.edu
SUMMARY:FAFSA and CASFA Ayuda
DESCRIPTION:Ayuda con los solicitudes para ayuda financiera.  \n– \n\n303-352-8746\ntext 303-552-5344 or\nEOC@CCD.EDU\n\n– \n\n–\nFinancialaid.CCA@CCAurora.edu
URL:https://ccaurora.edu/es/event/fafsa-and-casfa-ayuda/2026-01-10/
LOCATION:CentreTech Campus Administration Building 103H
END:VEVENT
BEGIN:VEVENT
DTSTART;TZID=America/Denver:20260110T090000
DTEND;TZID=America/Denver:20260110T130000
DTSTAMP:20260422T063952
CREATED:20260107T174949Z
LAST-MODIFIED:20260107T174949Z
UID:10003452-1768035600-1768050000@ccaurora.edu
SUMMARY:Extensión de horas para Gestión de matrículas
DESCRIPTION:Tienes preguntas sobre el semestre de la primavera 2026? ¿Cómo matricularse? ¿Qué clases deberías tomar?\n\nGestión de matrículas esta expandiendo sus hors para ayudar. Los estudiantes pueden encontrar ayudo con estas oficinas para apoyo: \n\nAsesoramiento académico\nAyuda financiera\nRegistro y archivos\nCajeros\nReclutamiento y orientación
URL:https://ccaurora.edu/es/event/extension-de-horas-para-gestion-de-matriculas/2026-01-10/
LOCATION:CentreTech Campus Administration Building 103H
END:VEVENT
BEGIN:VEVENT
DTSTART;VALUE=DATE:20260112
DTEND;VALUE=DATE:20260113
DTSTAMP:20260422T063952
CREATED:20250312T185252Z
LAST-MODIFIED:20250312T185252Z
UID:10002898-1768176000-1768262399@ccaurora.edu
SUMMARY:Primavera 2026 | Fecha límite de pago
DESCRIPTION:
URL:https://ccaurora.edu/es/event/primavera-2026-fecha-limite-de-pago/
CATEGORIES:Plazos de Pago
END:VEVENT
BEGIN:VEVENT
DTSTART;TZID=America/Denver:20260117T090000
DTEND;TZID=America/Denver:20260117T123000
DTSTAMP:20260422T063952
CREATED:20251021T173423Z
LAST-MODIFIED:20251021T173423Z
UID:10003447-1768640400-1768653000@ccaurora.edu
SUMMARY:FAFSA and CASFA Ayuda
DESCRIPTION:Ayuda con los solicitudes para ayuda financiera.  \n– \n\n303-352-8746\ntext 303-552-5344 or\nEOC@CCD.EDU\n\n– \n\n–\nFinancialaid.CCA@CCAurora.edu
URL:https://ccaurora.edu/es/event/fafsa-and-casfa-ayuda/2026-01-17/
LOCATION:CentreTech Campus Administration Building 103H
END:VEVENT
BEGIN:VEVENT
DTSTART;TZID=America/Denver:20260117T090000
DTEND;TZID=America/Denver:20260117T130000
DTSTAMP:20260422T063952
CREATED:20260107T174949Z
LAST-MODIFIED:20260107T174949Z
UID:10003453-1768640400-1768654800@ccaurora.edu
SUMMARY:Extensión de horas para Gestión de matrículas
DESCRIPTION:Tienes preguntas sobre el semestre de la primavera 2026? ¿Cómo matricularse? ¿Qué clases deberías tomar?\n\nGestión de matrículas esta expandiendo sus hors para ayudar. Los estudiantes pueden encontrar ayudo con estas oficinas para apoyo: \n\nAsesoramiento académico\nAyuda financiera\nRegistro y archivos\nCajeros\nReclutamiento y orientación
URL:https://ccaurora.edu/es/event/extension-de-horas-para-gestion-de-matriculas/2026-01-17/
LOCATION:CentreTech Campus Administration Building 103H
END:VEVENT
BEGIN:VEVENT
DTSTART;TZID=America/Denver:20260119T080000
DTEND;TZID=America/Denver:20260119T170000
DTSTAMP:20260422T063952
CREATED:20260109T210556Z
LAST-MODIFIED:20260109T210624Z
UID:10003475-1768809600-1768842000@ccaurora.edu
SUMMARY:Martin Luther King Jr. Day (Campus Closed)
DESCRIPTION:
URL:https://ccaurora.edu/es/event/martin-luther-king-jr-day-campus-closed/
CATEGORIES:Fechas Académicas Importantes
END:VEVENT
BEGIN:VEVENT
DTSTART;TZID=America/Denver:20260120T080000
DTEND;TZID=America/Denver:20260120T170000
DTSTAMP:20260422T063952
CREATED:20230627T201441Z
LAST-MODIFIED:20231016T160704Z
UID:10000436-1768896000-1768928400@ccaurora.edu
SUMMARY:Semestre de Primavera 2026 Comienza
DESCRIPTION:Comienzan las clases de primavera de 2026
URL:https://ccaurora.edu/es/event/comienza-el-semestre-de-primavera-de-2026/
CATEGORIES:Fechas Académicas Importantes
END:VEVENT
BEGIN:VEVENT
DTSTART;TZID=America/Denver:20260120T110000
DTEND;TZID=America/Denver:20260120T140000
DTSTAMP:20260422T063952
CREATED:20260109T213300Z
LAST-MODIFIED:20260109T213300Z
UID:10003482-1768906800-1768917600@ccaurora.edu
SUMMARY:Campus Connections
DESCRIPTION:Explore CCA resources\, meet Foxy\, and grab churros\, conchas\, a planner\, and a CCA shirt!
URL:https://ccaurora.edu/es/event/campus-connections/
LOCATION:CentreTech Campus Student Center Wellness Den
END:VEVENT
BEGIN:VEVENT
DTSTART;TZID=America/Denver:20260121T120000
DTEND;TZID=America/Denver:20260121T130000
DTSTAMP:20260422T063952
CREATED:20260109T213422Z
LAST-MODIFIED:20260109T213422Z
UID:10003484-1768996800-1769000400@ccaurora.edu
SUMMARY:Catch Your Fit With Foxy
DESCRIPTION:Career Pop Up-Shop: Come get styled for success\, ask questions\, and learn about career resources.
URL:https://ccaurora.edu/es/event/catch-your-fit-with-foxy/
END:VEVENT
BEGIN:VEVENT
DTSTART;TZID=America/Denver:20260122T123000
DTEND;TZID=America/Denver:20260122T133000
DTSTAMP:20260422T063952
CREATED:20260109T213640Z
LAST-MODIFIED:20260109T213640Z
UID:10003488-1769085000-1769088600@ccaurora.edu
SUMMARY:Pool with the President
DESCRIPTION:Play Dr. Brownlee in pool for a chance to win prizes!
URL:https://ccaurora.edu/es/event/pool-with-the-president-3/
LOCATION:CentreTech Campus Fox Zone
END:VEVENT
BEGIN:VEVENT
DTSTART;TZID=America/Denver:20260123T100000
DTEND;TZID=America/Denver:20260123T120000
DTSTAMP:20260422T063952
CREATED:20260108T212640Z
LAST-MODIFIED:20260108T212640Z
UID:10003461-1769162400-1769169600@ccaurora.edu
SUMMARY:Taller de matemáticas: Resolución de ecuaciones lineales
DESCRIPTION:Refuerza tu confianza en la resolución de ecuaciones mientras repasamos estrategias claras para resolver ecuaciones lineales\, incluidas aquellas con fracciones complejas. Inscríbete aquí.
URL:https://ccaurora.edu/es/event/taller-de-matematicas-resolucion-de-ecuaciones-lineales/2026-01-23/
LOCATION:CentreTech Campus CAST Building 130
END:VEVENT
BEGIN:VEVENT
DTSTART;TZID=America/Denver:20260123T130000
DTEND;TZID=America/Denver:20260123T150000
DTSTAMP:20260422T063952
CREATED:20260109T210021Z
LAST-MODIFIED:20260109T210021Z
UID:10003472-1769173200-1769180400@ccaurora.edu
SUMMARY:Math Workshop: All About Fractions
DESCRIPTION:Boost your confidence with fractions as we review how to simplify\, add\, subtract\, multiply\, and divide them. Questions? Email Kate.Yonce@ccaurora.edu \nSign up here.
URL:https://ccaurora.edu/es/event/math-workshop-all-about-fractions/2026-01-23/
LOCATION:CentreTech Campus CAST Building 130
END:VEVENT
BEGIN:VEVENT
DTSTART;TZID=America/Denver:20260123T180000
DTEND;TZID=America/Denver:20260123T203000
DTSTAMP:20260422T063952
CREATED:20260109T214049Z
LAST-MODIFIED:20260109T214049Z
UID:10003489-1769191200-1769200200@ccaurora.edu
SUMMARY:Harkins Movie Night
DESCRIPTION:Come watch Avatar : Fire & Ash. Secure your spot by registering here. 
URL:https://ccaurora.edu/es/event/harkins-movie-night/
LOCATION:Harkins Theater\, 8300 Northfield Blvd\, Denver\, CO\, United States
END:VEVENT
BEGIN:VEVENT
DTSTART;TZID=America/Denver:20260126T113000
DTEND;TZID=America/Denver:20260126T130000
DTSTAMP:20260422T063952
CREATED:20251219T201916Z
LAST-MODIFIED:20251219T201916Z
UID:10003448-1769427000-1769432400@ccaurora.edu
SUMMARY:Martin Luther King Luncheon
DESCRIPTION:– \nFormulario de becas\, Due 1/9 \nFormulario de RSVP \n– StudentLeadership.Development@ccaurora.edu
URL:https://ccaurora.edu/es/event/martin-luther-king-luncheon/
LOCATION:CentreTech Campus Fine Arts Building Heritage Hall F100
END:VEVENT
BEGIN:VEVENT
DTSTART;TZID=America/Denver:20260127T120000
DTEND;TZID=America/Denver:20260127T130000
DTSTAMP:20260422T063952
CREATED:20260109T214203Z
LAST-MODIFIED:20260109T214203Z
UID:10003491-1769515200-1769518800@ccaurora.edu
SUMMARY:Voces with VP
DESCRIPTION:Meet Dra. Reyna Anaya play lotería & win prizes!
URL:https://ccaurora.edu/es/event/voces-with-vp/
END:VEVENT
BEGIN:VEVENT
DTSTART;TZID=America/Denver:20260127T130000
DTEND;TZID=America/Denver:20260127T160000
DTSTAMP:20260422T063952
CREATED:20260109T214317Z
LAST-MODIFIED:20260109T214317Z
UID:10003494-1769518800-1769529600@ccaurora.edu
SUMMARY:Cinema and SLOs
DESCRIPTION:Meet students clubs\, enjoy popcorn\, and watch a movie!
URL:https://ccaurora.edu/es/event/cinema-and-slos/
END:VEVENT
BEGIN:VEVENT
DTSTART;TZID=America/Denver:20260127T140000
DTEND;TZID=America/Denver:20260127T160000
DTSTAMP:20260422T063952
CREATED:20260109T210021Z
LAST-MODIFIED:20260109T210021Z
UID:10003473-1769522400-1769529600@ccaurora.edu
SUMMARY:Math Workshop: All About Fractions
DESCRIPTION:Boost your confidence with fractions as we review how to simplify\, add\, subtract\, multiply\, and divide them. Questions? Email Kate.Yonce@ccaurora.edu \nSign up here.
URL:https://ccaurora.edu/es/event/math-workshop-all-about-fractions/2026-01-27/
LOCATION:CentreTech Campus CAST Building 130
END:VEVENT
BEGIN:VEVENT
DTSTART;TZID=America/Denver:20260127T160000
DTEND;TZID=America/Denver:20260127T180000
DTSTAMP:20260422T063952
CREATED:20260109T205630Z
LAST-MODIFIED:20260109T205704Z
UID:10003468-1769529600-1769536800@ccaurora.edu
SUMMARY:Innovation Lab Open House
DESCRIPTION:FREE FOOD / DRAW FOR PRIZES / MEET FACULTY / LEARN ABOUT STEM EVENTS AND RESOURCES \nThis is a free event\, open to all. come learn about the Innovation lab in the new CAST building. You can enter to win prizes\, meet faculty in a low-stress setting\, and hear about upcoming workshops and events. We hope to see you there! \nQuestions? Email catherine.cooper@ccaurora.edu
URL:https://ccaurora.edu/es/event/innovation-lab-open-house-2/2026-01-27/
LOCATION:CentreTech Campus CAST Building Innovation Lab 100
END:VEVENT
BEGIN:VEVENT
DTSTART;TZID=America/Denver:20260128T110000
DTEND;TZID=America/Denver:20260128T130000
DTSTAMP:20260422T063952
CREATED:20260108T212913Z
LAST-MODIFIED:20260108T212913Z
UID:10003465-1769598000-1769605200@ccaurora.edu
SUMMARY:Taller de matemáticas: Resolución de ecuaciones lineales
DESCRIPTION:Refuerza tu confianza en la resolución de ecuaciones mientras repasamos estrategias claras para resolver ecuaciones lineales\, incluidas aquellas con fracciones complejas. Inscríbete aquí.
URL:https://ccaurora.edu/es/event/taller-de-matematicas-resolucion-de-ecuaciones-lineales-2/
LOCATION:CentreTech Campus CAST Building 101
END:VEVENT
BEGIN:VEVENT
DTSTART;TZID=America/Denver:20260128T110000
DTEND;TZID=America/Denver:20260128T130000
DTSTAMP:20260422T063952
CREATED:20260109T205630Z
LAST-MODIFIED:20260109T205704Z
UID:10003469-1769598000-1769605200@ccaurora.edu
SUMMARY:Innovation Lab Open House
DESCRIPTION:FREE FOOD / DRAW FOR PRIZES / MEET FACULTY / LEARN ABOUT STEM EVENTS AND RESOURCES \nThis is a free event\, open to all. come learn about the Innovation lab in the new CAST building. You can enter to win prizes\, meet faculty in a low-stress setting\, and hear about upcoming workshops and events. We hope to see you there! \nQuestions? Email catherine.cooper@ccaurora.edu
URL:https://ccaurora.edu/es/event/innovation-lab-open-house-2/2026-01-28/
LOCATION:CentreTech Campus CAST Building Innovation Lab 100
END:VEVENT
BEGIN:VEVENT
DTSTART;TZID=America/Denver:20260128T113000
DTEND;TZID=America/Denver:20260128T123000
DTSTAMP:20260422T063952
CREATED:20260109T214407Z
LAST-MODIFIED:20260109T214407Z
UID:10003495-1769599800-1769603400@ccaurora.edu
SUMMARY:Campus Connections
DESCRIPTION:Explore CCA resources\, then snag a planner\, shirt\, and coffee!
URL:https://ccaurora.edu/es/event/campus-connections-3/
LOCATION:Centennial Campus for Healthcare and First Responders\, 12650 E. Arapahoe Rd.\, Suite 100\, Centennial\, CO\, 80112\, United States
END:VEVENT
BEGIN:VEVENT
DTSTART;TZID=America/Denver:20260128T133000
DTEND;TZID=America/Denver:20260128T143000
DTSTAMP:20260422T063952
CREATED:20260109T214506Z
LAST-MODIFIED:20260109T214506Z
UID:10003497-1769607000-1769610600@ccaurora.edu
SUMMARY:Paletas with the Provost
DESCRIPTION:Meet Dr.Pace compete in Kahoot for a chance to win!
URL:https://ccaurora.edu/es/event/paletas-with-the-provost-2/
END:VEVENT
BEGIN:VEVENT
DTSTART;TZID=America/Denver:20260129T093000
DTEND;TZID=America/Denver:20260129T103000
DTSTAMP:20260422T063952
CREATED:20251212T193340Z
LAST-MODIFIED:20251212T193340Z
UID:10003435-1769679000-1769682600@ccaurora.edu
SUMMARY:Wellness Den Corte De Cinta
DESCRIPTION:Ayúdennos a celebrar la inauguración del nuevo Espacio de Bienestar de CCA\, un espacio dedicado a apoyar a los estudiantes\, fortalecer su bienestar y fomentar una comunidad que crece unida.
URL:https://ccaurora.edu/es/event/wellness-den-corte-de-cinta/
LOCATION:CentreTech Campus Student Center Wellness Den
END:VEVENT
BEGIN:VEVENT
DTSTART;TZID=America/Denver:20260130T100000
DTEND;TZID=America/Denver:20260130T120000
DTSTAMP:20260422T063952
CREATED:20260108T211849Z
LAST-MODIFIED:20260108T211849Z
UID:10003455-1769767200-1769774400@ccaurora.edu
SUMMARY:Math Workshop: Exponents and Radicals
DESCRIPTION:Learn the rules of exponents and explore how to simplify radical expressions and convert between radical and exponential forms. Sign up here.
URL:https://ccaurora.edu/es/event/math-workshop-exponents-and-radicals/
LOCATION:CentreTech Campus CAST Building 130
END:VEVENT
BEGIN:VEVENT
DTSTART;TZID=America/Denver:20260130T110000
DTEND;TZID=America/Denver:20260130T120000
DTSTAMP:20260422T063952
CREATED:20260109T214704Z
LAST-MODIFIED:20260109T214704Z
UID:10003499-1769770800-1769774400@ccaurora.edu
SUMMARY:Online CCA Bingo
DESCRIPTION:Join us for Bingo for a chance to win fun prizes! Sign up here to play via Zoom.
URL:https://ccaurora.edu/es/event/online-cca-bingo/
LOCATION:Virtual
END:VEVENT
BEGIN:VEVENT
DTSTART;TZID=America/Denver:20260130T130000
DTEND;TZID=America/Denver:20260130T150000
DTSTAMP:20260422T063952
CREATED:20260108T212640Z
LAST-MODIFIED:20260108T212640Z
UID:10003462-1769778000-1769785200@ccaurora.edu
SUMMARY:Taller de matemáticas: Resolución de ecuaciones lineales
DESCRIPTION:Refuerza tu confianza en la resolución de ecuaciones mientras repasamos estrategias claras para resolver ecuaciones lineales\, incluidas aquellas con fracciones complejas. Inscríbete aquí.
URL:https://ccaurora.edu/es/event/taller-de-matematicas-resolucion-de-ecuaciones-lineales/2026-01-30/
LOCATION:CentreTech Campus CAST Building 130
END:VEVENT
END:VCALENDAR