BEGIN:VCALENDAR
VERSION:2.0
PRODID:-//Community College of Aurora - ECPv6.15.20//NONSGML v1.0//EN
CALSCALE:GREGORIAN
METHOD:PUBLISH
X-ORIGINAL-URL:https://ccaurora.edu/es/
X-WR-CALDESC:Eventos para Community College of Aurora
REFRESH-INTERVAL;VALUE=DURATION:PT1H
X-Robots-Tag:noindex
X-PUBLISHED-TTL:PT1H
BEGIN:VTIMEZONE
TZID:America/Denver
BEGIN:DAYLIGHT
TZOFFSETFROM:-0700
TZOFFSETTO:-0600
TZNAME:MDT
DTSTART:20250309T090000
END:DAYLIGHT
BEGIN:STANDARD
TZOFFSETFROM:-0600
TZOFFSETTO:-0700
TZNAME:MST
DTSTART:20251102T080000
END:STANDARD
BEGIN:DAYLIGHT
TZOFFSETFROM:-0700
TZOFFSETTO:-0600
TZNAME:MDT
DTSTART:20260308T090000
END:DAYLIGHT
BEGIN:STANDARD
TZOFFSETFROM:-0600
TZOFFSETTO:-0700
TZNAME:MST
DTSTART:20261101T080000
END:STANDARD
BEGIN:DAYLIGHT
TZOFFSETFROM:-0700
TZOFFSETTO:-0600
TZNAME:MDT
DTSTART:20270314T090000
END:DAYLIGHT
BEGIN:STANDARD
TZOFFSETFROM:-0600
TZOFFSETTO:-0700
TZNAME:MST
DTSTART:20271107T080000
END:STANDARD
END:VTIMEZONE
BEGIN:VEVENT
DTSTART;VALUE=DATE:20260309
DTEND;VALUE=DATE:20260310
DTSTAMP:20260420T070607
CREATED:20250312T185425Z
LAST-MODIFIED:20250312T185425Z
UID:10002899-1773014400-1773100799@ccaurora.edu
SUMMARY:Primavera de 2026 | Primera baja por impago | Primavera de 2026 | Retenciones añadidas a cuentas con saldos pendientes
DESCRIPTION:
URL:https://ccaurora.edu/es/event/primavera-de-2026-primera-baja-por-impago-primavera-de-2026-retenciones-anadidas-a-cuentas-con-saldos-pendientes/
CATEGORIES:Plazos de Pago
END:VEVENT
BEGIN:VEVENT
DTSTART;TZID=America/Denver:20260309T080000
DTEND;TZID=America/Denver:20260309T170000
DTSTAMP:20260420T070607
CREATED:20230630T130239Z
LAST-MODIFIED:20231016T160549Z
UID:10000411-1773043200-1773075600@ccaurora.edu
SUMMARY:Registro para el Verano 2026 Abierto
DESCRIPTION:
URL:https://ccaurora.edu/es/event/abierto-el-plazo-de-inscripcion-para-el-verano-de-2026/
CATEGORIES:Fechas Académicas Importantes
END:VEVENT
BEGIN:VEVENT
DTSTART;TZID=America/Denver:20260309T080000
DTEND;TZID=America/Denver:20260309T170000
DTSTAMP:20260420T070607
CREATED:20230630T130302Z
LAST-MODIFIED:20231016T160456Z
UID:10000410-1773043200-1773075600@ccaurora.edu
SUMMARY:Registro para el Otoño 2026 Abierto
DESCRIPTION:
URL:https://ccaurora.edu/es/event/abierto-el-plazo-de-inscripcion-para-otono-de-2026/
CATEGORIES:Fechas Académicas Importantes
END:VEVENT
BEGIN:VEVENT
DTSTART;TZID=America/Denver:20260309T080000
DTEND;TZID=America/Denver:20260314T170000
DTSTAMP:20260420T070607
CREATED:20230627T201744Z
LAST-MODIFIED:20231016T160318Z
UID:10000433-1773043200-1773507600@ccaurora.edu
SUMMARY:Vacaciones de Primavera (No Clases\, Campus Abierto)
DESCRIPTION:
URL:https://ccaurora.edu/es/event/vacaciones-de-primavera-sin-clases-campus-abierto-3/
CATEGORIES:Fechas Académicas Importantes
END:VEVENT
END:VCALENDAR